Back to Multiple platform build/check report for BioC 3.14
ABCDEFGHIJKLMN[O]PQRSTUVWXYZ

This page was generated on 2021-08-02 12:04:29 -0400 (Mon, 02 Aug 2021).

INSTALL results for OrganismDbi on nebbiolo2

To the developers/maintainers of the OrganismDbi package:
- Please allow up to 24 hours (and sometimes 48 hours) for your latest push to git@git.bioconductor.org:packages/OrganismDbi.git to
reflect on this report. See How and When does the builder pull? When will my changes propagate? here for more information.
- Make sure to use the following settings in order to reproduce any error or warning you see on this page.

raw results

Package 1310/2015HostnameOS / ArchINSTALLBUILDCHECKBUILD BIN
OrganismDbi 1.35.0  (landing page)
Bioconductor Package Maintainer
Snapshot Date: 2021-08-01 14:50:04 -0400 (Sun, 01 Aug 2021)
URL: https://git.bioconductor.org/packages/OrganismDbi
Branch: master
Last Commit: 22bca21
Last Changed Date: 2021-05-19 11:53:46 -0400 (Wed, 19 May 2021)
nebbiolo2Linux (Ubuntu 20.04.2 LTS) / x86_64  OK    OK    ERROR  
riesling1Windows Server 2019 Standard / x64  OK    OK    ERROR    OK  
merida1macOS 10.14.6 Mojave / x86_64  OK    OK    ERROR    OK  

Summary

Package: OrganismDbi
Version: 1.35.0
Command: /home/biocbuild/bbs-3.14-bioc/R/bin/R CMD INSTALL OrganismDbi
StartedAt: 2021-08-01 16:23:14 -0400 (Sun, 01 Aug 2021)
EndedAt: 2021-08-01 16:23:51 -0400 (Sun, 01 Aug 2021)
EllapsedTime: 37.0 seconds
RetCode: 0
Status:   OK  

Command output

##############################################################################
##############################################################################
###
### Running command:
###
###   /home/biocbuild/bbs-3.14-bioc/R/bin/R CMD INSTALL OrganismDbi
###
##############################################################################
##############################################################################


* installing to library ‘/home/biocbuild/bbs-3.14-bioc/R/library’
* installing *source* package ‘OrganismDbi’ ...
** using staged installation
** R
** inst
** byte-compile and prepare package for lazy loading
** help
*** installing help indices
** building package indices
** installing vignettes
** testing if installed package can be loaded from temporary location
** testing if installed package can be loaded from final location
** testing if installed package keeps a record of temporary installation path
* DONE (OrganismDbi)