Back to Multiple platform build/check report for BioC 3.14
ABCDEFGHIJKLM[N]OPQRSTUVWXYZ

This page was generated on 2021-06-23 12:03:54 -0400 (Wed, 23 Jun 2021).

All results for package NetSAM

To the developers/maintainers of the NetSAM package:
- Please allow up to 24 hours (and sometimes 48 hours) for your latest push to git@git.bioconductor.org:packages/NetSAM.git to
reflect on this report. See How and When does the builder pull? When will my changes propagate? here for more information.
- Make sure to use the following settings in order to reproduce any error or warning you see on this page.

raw results

Package 1237/1993HostnameOS / ArchINSTALLBUILDCHECKBUILD BIN
NetSAM 1.33.0  (landing page)
Zhiao Shi
Snapshot Date: 2021-06-22 14:50:07 -0400 (Tue, 22 Jun 2021)
URL: https://git.bioconductor.org/packages/NetSAM
Branch: master
Last Commit: e8d05cd
Last Changed Date: 2021-05-19 11:59:14 -0400 (Wed, 19 May 2021)
nebbiolo2Linux (Ubuntu 20.04.2 LTS) / x86_64  OK    OK    OK  UNNEEDED, same version is already published
riesling1Windows Server 2019 Standard / x64  OK    OK    ERROR    OK  
merida1macOS 10.14.6 Mojave / x86_64  OK    OK    OK    OK  UNNEEDED, same version is already published