Back to Multiple platform build/check report for BioC 3.14
ABCDEFGHIJKLM[N]OPQRSTUVWXYZ

INSTALL results for NeighborNet on riesling1

This page was generated on 2021-06-12 12:05:11 -0400 (Sat, 12 Jun 2021).

Package 1227/1993HostnameOS / ArchINSTALLBUILDCHECKBUILD BIN
NeighborNet 1.11.0  (landing page)
Sahar Ansari
Snapshot Date: 2021-06-11 14:50:09 -0400 (Fri, 11 Jun 2021)
URL: https://git.bioconductor.org/packages/NeighborNet
Branch: master
Last Commit: c0e6d59
Last Changed Date: 2021-05-19 12:38:31 -0400 (Wed, 19 May 2021)
nebbiolo2Linux (Ubuntu 20.04.2 LTS) / x86_64  OK    OK    OK  UNNEEDED, same version is already published
riesling1Windows Server 2019 Standard / x64  OK    OK    OK    OK  UNNEEDED, same version is already published
merida1macOS 10.14.6 Mojave / x86_64  OK    OK    OK    OK  UNNEEDED, same version is already published
To the developers/maintainers of the NeighborNet package:
- Please allow up to 24 hours (and sometimes 48 hours) for your latest push to git@git.bioconductor.org:packages/NeighborNet.git to
reflect on this report. See How and When does the builder pull? When will my changes propagate? here for more information.
- Make sure to use the following settings in order to reproduce any error or warning you see on this page.

Summary

Package: NeighborNet
Version: 1.11.0
Command: C:\cygwin\bin\curl.exe -O http://155.52.207.166/BBS/3.14/bioc/src/contrib/NeighborNet_1.11.0.tar.gz && rm -rf NeighborNet.buildbin-libdir && mkdir NeighborNet.buildbin-libdir && D:\biocbuild\bbs-3.14-bioc\R\bin\R.exe CMD INSTALL --merge-multiarch --build --library=NeighborNet.buildbin-libdir NeighborNet_1.11.0.tar.gz && D:\biocbuild\bbs-3.14-bioc\R\bin\R.exe CMD INSTALL NeighborNet_1.11.0.zip && rm NeighborNet_1.11.0.tar.gz NeighborNet_1.11.0.zip
StartedAt: 2021-06-11 16:43:33 -0400 (Fri, 11 Jun 2021)
EndedAt: 2021-06-11 16:46:06 -0400 (Fri, 11 Jun 2021)
EllapsedTime: 152.3 seconds
RetCode: 0
Status:   OK   

Command output

##############################################################################
##############################################################################
###
### Running command:
###
###   C:\cygwin\bin\curl.exe -O http://155.52.207.166/BBS/3.14/bioc/src/contrib/NeighborNet_1.11.0.tar.gz && rm -rf NeighborNet.buildbin-libdir && mkdir NeighborNet.buildbin-libdir && D:\biocbuild\bbs-3.14-bioc\R\bin\R.exe CMD INSTALL --merge-multiarch --build --library=NeighborNet.buildbin-libdir NeighborNet_1.11.0.tar.gz && D:\biocbuild\bbs-3.14-bioc\R\bin\R.exe CMD INSTALL NeighborNet_1.11.0.zip && rm NeighborNet_1.11.0.tar.gz NeighborNet_1.11.0.zip
###
##############################################################################
##############################################################################


  % Total    % Received % Xferd  Average Speed   Time    Time     Time  Current
                                 Dload  Upload   Total   Spent    Left  Speed

  0     0    0     0    0     0      0      0 --:--:-- --:--:-- --:--:--     0
 11 3535k   11  408k    0     0  2462k      0  0:00:01 --:--:--  0:00:01 2447k
100 3535k  100 3535k    0     0  10.3M      0 --:--:-- --:--:-- --:--:-- 10.3M

install for i386

* installing *source* package 'NeighborNet' ...
** using staged installation
** R
** inst
** byte-compile and prepare package for lazy loading
** help
*** installing help indices
  converting help for package 'NeighborNet'
    finding HTML links ... done
    neighborNet                             html  
    finding level-2 HTML links ... done

** building package indices
** installing vignettes
** testing if installed package can be loaded from temporary location
** testing if installed package can be loaded from final location
** testing if installed package keeps a record of temporary installation path

install for x64

* installing *source* package 'NeighborNet' ...
** testing if installed package can be loaded
* MD5 sums
packaged installation of 'NeighborNet' as NeighborNet_1.11.0.zip
* DONE (NeighborNet)
* installing to library 'D:/biocbuild/bbs-3.14-bioc/R/library'
package 'NeighborNet' successfully unpacked and MD5 sums checked