Index of /checkResults/devel/bioc-LATEST/NCIgraph/raw-results

[ICO]NameLast modifiedSizeDescription

[DIR]Parent Directory  -  
[DIR]kunpeng2/09-Jul-2024 00:45 -  
[   ]info.dcf19-Jul-2024 00:37 270  
[DIR]nebbiolo2/19-Jul-2024 00:38 -