Index of /checkResults/devel/bioc-LATEST/NCIgraph/raw-results

[ICO]NameLast modifiedSizeDescription

[DIR]Parent Directory  -  
[   ]info.dcf22-Jun-2024 02:20 270  
[DIR]kunpeng2/16-May-2024 02:46 -  
[DIR]nebbiolo2/22-Jun-2024 02:21 -