Back to Multiple platform build/check report for BioC 3.20:   simplified   long
ABCDEFGHIJKLM[N]OPQRSTUVWXYZ

This page was generated on 2024-06-17 12:23 -0400 (Mon, 17 Jun 2024).

HostnameOSArch (*)R versionInstalled pkgs
nebbiolo2Linux (Ubuntu 22.04.3 LTS)x86_644.4.0 RC (2024-04-16 r86468) -- "Puppy Cup" 4685
lconwaymacOS 12.7.1 Montereyx86_644.4.1 RC (2024-06-06 r86719) -- "Race for Your Life" 4400
Click on any hostname to see more info about the system (e.g. compilers)      (*) as reported by 'uname -p', except on Windows and Mac OS X

Package 1372/2242HostnameOS / ArchINSTALLBUILDCHECKBUILD BIN
NCIgraph 1.53.0  (landing page)
Laurent Jacob
Snapshot Date: 2024-06-16 14:00 -0400 (Sun, 16 Jun 2024)
git_url: https://git.bioconductor.org/packages/NCIgraph
git_branch: devel
git_last_commit: be43d65
git_last_commit_date: 2024-04-30 10:24:06 -0400 (Tue, 30 Apr 2024)
nebbiolo2Linux (Ubuntu 22.04.3 LTS) / x86_64  OK    OK    OK  UNNEEDED, same version is already published
lconwaymacOS 12.7.1 Monterey / x86_64... NOT SUPPORTED ...


BUILD results for NCIgraph on nebbiolo2

To the developers/maintainers of the NCIgraph package:
- Allow up to 24 hours (and sometimes 48 hours) for your latest push to git@git.bioconductor.org:packages/NCIgraph.git to reflect on this report. See Troubleshooting Build Report for more information.
- Use the following Renviron settings to reproduce errors and warnings.
- If 'R CMD check' started to fail recently on the Linux builder(s) over a missing dependency, add the missing dependency to 'Suggests:' in your DESCRIPTION file. See Renviron.bioc for more information.

raw results


Summary

Package: NCIgraph
Version: 1.53.0
Command: /home/biocbuild/bbs-3.20-bioc/R/bin/R CMD build --keep-empty-dirs --no-resave-data --md5 NCIgraph
StartedAt: 2024-06-16 18:33:37 -0400 (Sun, 16 Jun 2024)
EndedAt: 2024-06-16 18:33:51 -0400 (Sun, 16 Jun 2024)
EllapsedTime: 14.0 seconds
RetCode: 0
Status:   OK  
PackageFile: NCIgraph_1.53.0.tar.gz
PackageFileSize: 203 KiB

Command output

##############################################################################
##############################################################################
###
### Running command:
###
###   /home/biocbuild/bbs-3.20-bioc/R/bin/R CMD build --keep-empty-dirs --no-resave-data --md5 NCIgraph
###
##############################################################################
##############################################################################


* checking for file ‘NCIgraph/DESCRIPTION’ ... OK
* preparing ‘NCIgraph’:
* checking DESCRIPTION meta-information ... OK
* installing the package to build vignettes
* creating vignettes ... OK
* checking for LF line-endings in source and make files and shell scripts
* checking for empty or unneeded directories
* looking to see if a ‘data/datalist’ file should be added
* adding MD5 file
* building ‘NCIgraph_1.53.0.tar.gz’