Back to Multiple platform build/check report for BioC 3.15
ABCDEFGHIJKLM[N]OPQRSTUVWXYZ

This page was generated on 2021-11-27 14:05:13 -0500 (Sat, 27 Nov 2021).

BUILD BIN results for NADfinder on riesling1

To the developers/maintainers of the NADfinder package:
- Please allow up to 24 hours (and sometimes 48 hours) for your latest push to git@git.bioconductor.org:packages/NADfinder.git to
reflect on this report. See How and When does the builder pull? When will my changes propagate? here for more information.
- Make sure to use the following settings in order to reproduce any error or warning you see on this page.

raw results

Package 1252/2068HostnameOS / ArchINSTALLBUILDCHECKBUILD BIN
NADfinder 1.19.1  (landing page)
Jianhong Ou
Snapshot Date: 2021-11-26 14:50:14 -0500 (Fri, 26 Nov 2021)
git_url: https://git.bioconductor.org/packages/NADfinder
git_branch: master
git_last_commit: 0358a76
git_last_commit_date: 2021-11-21 00:37:41 -0500 (Sun, 21 Nov 2021)
nebbiolo1Linux (Ubuntu 20.04.3 LTS) / x86_64  OK    OK    OK  UNNEEDED, same version is already published
riesling1Windows Server 2019 Standard / x64  OK    OK    OK    OK  
merida1macOS 10.14.6 Mojave / x86_64  OK    OK    OK    OK  NO, package depends on 'ATACseqQC' which is not available

Summary

Package: NADfinder
Version: 1.19.1
Command: rm -rf NADfinder.buildbin-libdir && mkdir NADfinder.buildbin-libdir && D:\biocbuild\bbs-3.15-bioc\R\bin\R.exe CMD INSTALL --merge-multiarch --build --library=NADfinder.buildbin-libdir NADfinder_1.19.1.tar.gz
StartedAt: 2021-11-27 07:21:38 -0500 (Sat, 27 Nov 2021)
EndedAt: 2021-11-27 07:25:56 -0500 (Sat, 27 Nov 2021)
EllapsedTime: 258.6 seconds
RetCode: 0
Status:   OK  
PackageFile: NADfinder_1.19.1.zip
PackageFileSize: 6.167 MiB

Command output

##############################################################################
##############################################################################
###
### Running command:
###
###   rm -rf NADfinder.buildbin-libdir && mkdir NADfinder.buildbin-libdir && D:\biocbuild\bbs-3.15-bioc\R\bin\R.exe CMD INSTALL --merge-multiarch --build --library=NADfinder.buildbin-libdir NADfinder_1.19.1.tar.gz
###
##############################################################################
##############################################################################


only one architecture so ignoring '--merge-multiarch'
* installing *source* package 'NADfinder' ...
** using staged installation
** R
** data
*** moving datasets to lazyload DB
** inst
** byte-compile and prepare package for lazy loading
** help
*** installing help indices
  converting help for package 'NADfinder'
    finding HTML links ... done
    IntersectionNotStrict                   html  
    NADfinder-package                       html  
    backgroundCorrection                    html  
    butterFilter                            html  
    callPeaks                               html  
    computeLibSizeChrom                     html  
    cumulativePercentage                    html  
    exportSignals                           html  
    getCorrelations                         html  
    groupZscores                            html  
    log2se                                  html  
    peakdet                                 html  
    plotSig                                 html  
    single.count                            html  
    smoothRatiosByChromosome                html  
    tileCount                               html  
    tileCount2                              html  
    transformData                           html  
    trimPeaks                               html  
    triplicate.count                        html  
    zscoreOverBck                           html  
** building package indices
** installing vignettes
** testing if installed package can be loaded from temporary location
** testing if installed package can be loaded from final location
** testing if installed package keeps a record of temporary installation path
* MD5 sums
packaged installation of 'NADfinder' as NADfinder_1.19.1.zip
* DONE (NADfinder)