Index of /checkResults/devel/bioc-LATEST/NADfinder/raw-results

[ICO]NameLast modifiedSizeDescription

[DIR]Parent Directory  -  
[   ]info.dcf26-Nov-2022 01:10 268  
[DIR]merida1/26-Nov-2022 01:10 -  
[DIR]nebbiolo1/26-Nov-2022 01:06 -  
[DIR]palomino3/26-Nov-2022 01:08 -