Back to Multiple platform build/check report for BioC 3.15
ABCDEFGHIJKLM[N]OPQRSTUVWXYZ

This page was generated on 2021-11-27 14:05:47 -0500 (Sat, 27 Nov 2021).

BUILD results for NADfinder on merida1

To the developers/maintainers of the NADfinder package:
- Please allow up to 24 hours (and sometimes 48 hours) for your latest push to git@git.bioconductor.org:packages/NADfinder.git to
reflect on this report. See How and When does the builder pull? When will my changes propagate? here for more information.
- Make sure to use the following settings in order to reproduce any error or warning you see on this page.

raw results

Package 1252/2068HostnameOS / ArchINSTALLBUILDCHECKBUILD BIN
NADfinder 1.19.1  (landing page)
Jianhong Ou
Snapshot Date: 2021-11-26 14:50:14 -0500 (Fri, 26 Nov 2021)
git_url: https://git.bioconductor.org/packages/NADfinder
git_branch: master
git_last_commit: 0358a76
git_last_commit_date: 2021-11-21 00:37:41 -0500 (Sun, 21 Nov 2021)
nebbiolo1Linux (Ubuntu 20.04.3 LTS) / x86_64  OK    OK    OK  UNNEEDED, same version is already published
riesling1Windows Server 2019 Standard / x64  OK    OK    OK    OK  
merida1macOS 10.14.6 Mojave / x86_64  OK    OK    OK    OK  NO, package depends on 'ATACseqQC' which is not available

Summary

Package: NADfinder
Version: 1.19.1
Command: /Library/Frameworks/R.framework/Resources/bin/R CMD build --keep-empty-dirs --no-resave-data NADfinder
StartedAt: 2021-11-26 21:24:51 -0500 (Fri, 26 Nov 2021)
EndedAt: 2021-11-26 21:29:15 -0500 (Fri, 26 Nov 2021)
EllapsedTime: 264.6 seconds
RetCode: 0
Status:   OK  
PackageFile: NADfinder_1.19.1.tar.gz
PackageFileSize: 5.941 MiB

Command output

##############################################################################
##############################################################################
###
### Running command:
###
###   /Library/Frameworks/R.framework/Resources/bin/R CMD build --keep-empty-dirs --no-resave-data NADfinder
###
##############################################################################
##############################################################################


* checking for file ‘NADfinder/DESCRIPTION’ ... OK
* preparing ‘NADfinder’:
* checking DESCRIPTION meta-information ... OK
* installing the package to build vignettes
* creating vignettes ... OK
* checking for LF line-endings in source and make files and shell scripts
* checking for empty or unneeded directories
  NB: this package now depends on R (>= 3.5.0)
  WARNING: Added dependency on R >= 3.5.0 because serialized objects in
  serialize/load version 3 cannot be read in older versions of R.
  File(s) containing such objects:
    ‘NADfinder/data/single.count.rda’
    ‘NADfinder/data/triplicate.count.rda’
    ‘NADfinder/inst/extdata/ideo.mm10.rds’
* building ‘NADfinder_1.19.1.tar.gz’