Index of /checkResults/devel/bioc-LATEST/MoonlightR/raw-results/nebbiolo2

[ICO]NameLast modifiedSizeDescription

[DIR]Parent Directory  -  
[TXT]buildsrc-out.txt13-Jul-2024 01:30 842  
[   ]buildsrc-summary.dcf13-Jul-2024 01:30 433  
[TXT]checksrc-out.txt13-Jul-2024 01:30 3.6K 
[   ]checksrc-summary.dcf13-Jul-2024 01:30 426  
[TXT]install-out.txt13-Jul-2024 01:30 1.0K 
[   ]install-summary.dcf13-Jul-2024 01:30 265