Index of /checkResults/devel/bioc-LATEST/MoonlightR/raw-results/nebbiolo2

[ICO]NameLast modifiedSizeDescription

[DIR]Parent Directory  -  
[TXT]buildsrc-out.txt18-Jun-2024 01:23 842  
[   ]buildsrc-summary.dcf18-Jun-2024 01:23 433  
[TXT]checksrc-out.txt18-Jun-2024 01:23 3.6K 
[   ]checksrc-summary.dcf18-Jun-2024 01:23 426  
[TXT]install-out.txt18-Jun-2024 01:23 1.0K 
[   ]install-summary.dcf18-Jun-2024 01:23 265