Index of /checkResults/devel/bioc-LATEST/MoonlightR/raw-results/merida1

[ICO]NameLast modifiedSizeDescription

[DIR]Parent Directory  -  
[   ]install-summary.dcf12-Jun-2024 04:42 276  
[   ]buildsrc-summary.dcf12-Jun-2024 04:42 437  
[   ]checksrc-summary.dcf12-Jun-2024 04:42 456  
[   ]buildbin-summary.dcf12-Jun-2024 04:42 549  
[TXT]buildsrc-out.txt12-Jun-2024 04:42 828  
[TXT]install-out.txt12-Jun-2024 04:42 1.0K 
[TXT]buildbin-out.txt12-Jun-2024 04:42 1.2K 
[TXT]checksrc-out.txt12-Jun-2024 04:42 3.7K