Index of /checkResults/devel/bioc-LATEST/MoonlightR/raw-results/kunpeng2

[ICO]NameLast modifiedSizeDescription

[DIR]Parent Directory  -  
[   ]install-summary.dcf06-Jul-2024 00:44 255  
[   ]checksrc-summary.dcf09-Jul-2024 00:45 331  
[   ]buildsrc-summary.dcf09-Jul-2024 00:45 414  
[TXT]install-out.txt06-Jul-2024 00:44 643  
[TXT]buildsrc-out.txt09-Jul-2024 00:45 806  
[TXT]checksrc-out.txt09-Jul-2024 00:45 3.8K