Index of /checkResults/devel/bioc-LATEST/MoleculeExperiment/raw-results/nebbiolo2

[ICO]NameLast modifiedSizeDescription

[DIR]Parent Directory  -  
[TXT]buildsrc-out.txt24-Jul-2024 00:38 1.2K 
[   ]buildsrc-summary.dcf24-Jul-2024 00:38 455  
[TXT]checksrc-out.txt24-Jul-2024 00:38 5.1K 
[   ]checksrc-summary.dcf24-Jul-2024 00:38 456  
[TXT]install-out.txt24-Jul-2024 00:38 1.0K 
[   ]install-summary.dcf24-Jul-2024 00:38 280