Index of /checkResults/devel/bioc-LATEST/MoleculeExperiment/raw-results/lconway

[ICO]NameLast modifiedSizeDescription

[DIR]Parent Directory  -  
[TXT]buildbin-out.txt23-Jul-2024 01:45 1.2K 
[   ]buildbin-summary.dcf23-Jul-2024 01:45 593  
[TXT]buildsrc-out.txt23-Jul-2024 01:45 1.2K 
[   ]buildsrc-summary.dcf23-Jul-2024 01:45 459  
[TXT]checksrc-out.txt23-Jul-2024 01:45 5.1K 
[   ]checksrc-summary.dcf23-Jul-2024 01:45 486  
[TXT]install-out.txt23-Jul-2024 01:45 1.0K 
[   ]install-summary.dcf23-Jul-2024 01:45 290