Index of /checkResults/devel/bioc-LATEST/MoleculeExperiment/raw-results/kunpeng2

[ICO]NameLast modifiedSizeDescription

[DIR]Parent Directory  -  
[TXT]buildsrc-out.txt09-Jul-2024 00:45 1.1K 
[   ]buildsrc-summary.dcf09-Jul-2024 00:45 437  
[TXT]checksrc-out.txt09-Jul-2024 00:45 5.2K 
[   ]checksrc-summary.dcf09-Jul-2024 00:45 447  
[TXT]install-out.txt07-Jul-2024 00:44 1.0K 
[   ]install-summary.dcf07-Jul-2024 00:44 268