Index of /checkResults/devel/bioc-LATEST/MoleculeExperiment/raw-results/kjohnson3

[ICO]NameLast modifiedSizeDescription

[DIR]Parent Directory  -  
[TXT]buildbin-out.txt18-Jul-2024 00:42 1.2K 
[   ]buildbin-summary.dcf18-Jul-2024 00:42 593  
[TXT]buildsrc-out.txt18-Jul-2024 00:42 1.2K 
[   ]buildsrc-summary.dcf18-Jul-2024 00:42 458  
[TXT]checksrc-out.txt18-Jul-2024 00:42 5.1K 
[   ]checksrc-summary.dcf18-Jul-2024 00:42 486  
[TXT]install-out.txt18-Jul-2024 00:42 1.0K 
[   ]install-summary.dcf18-Jul-2024 00:42 290