Back to Multiple platform build/check report for BioC 3.14
ABCDEFGHIJKL[M]NOPQRSTUVWXYZ

This page was generated on 2021-08-03 12:06:51 -0400 (Tue, 03 Aug 2021).

BUILD BIN results for MineICA on merida1

To the developers/maintainers of the MineICA package:
- Please allow up to 24 hours (and sometimes 48 hours) for your latest push to git@git.bioconductor.org:packages/MineICA.git to
reflect on this report. See How and When does the builder pull? When will my changes propagate? here for more information.
- Make sure to use the following settings in order to reproduce any error or warning you see on this page.

raw results

Package 1121/2015HostnameOS / ArchINSTALLBUILDCHECKBUILD BIN
MineICA 1.33.0  (landing page)
Anne Biton
Snapshot Date: 2021-08-02 14:50:09 -0400 (Mon, 02 Aug 2021)
URL: https://git.bioconductor.org/packages/MineICA
Branch: master
Last Commit: 264a958
Last Changed Date: 2021-05-19 11:57:33 -0400 (Wed, 19 May 2021)
nebbiolo2Linux (Ubuntu 20.04.2 LTS) / x86_64  OK    OK    WARNINGS  UNNEEDED, same version is already published
riesling1Windows Server 2019 Standard / x64  OK    OK    WARNINGS    OK  NO, package depends on 'GOstats' which is not available
merida1macOS 10.14.6 Mojave / x86_64  OK    OK    WARNINGS    OK  UNNEEDED, same version is already published

Summary

Package: MineICA
Version: 1.33.0
Command: rm -rf MineICA.buildbin-libdir && mkdir MineICA.buildbin-libdir && /Users/biocbuild/BBS/utils/build-universal.sh MineICA_1.33.0.tar.gz /Library/Frameworks/R.framework/Resources/bin/R MineICA.buildbin-libdir
StartedAt: 2021-08-03 09:58:14 -0400 (Tue, 03 Aug 2021)
EndedAt: 2021-08-03 09:59:21 -0400 (Tue, 03 Aug 2021)
EllapsedTime: 66.4 seconds
RetCode: 0
Status:   OK  
PackageFile: MineICA_1.33.0.tgz
PackageFileSize: 2.243 MiB

Command output

##############################################################################
##############################################################################
###
### Running command:
###
###   rm -rf MineICA.buildbin-libdir && mkdir MineICA.buildbin-libdir && /Users/biocbuild/BBS/utils/build-universal.sh MineICA_1.33.0.tar.gz /Library/Frameworks/R.framework/Resources/bin/R MineICA.buildbin-libdir
###
##############################################################################
##############################################################################


>>>>>>> 
>>>>>>> INSTALLATION WITH 'R CMD INSTALL --preclean --no-multiarch --library=MineICA.buildbin-libdir MineICA_1.33.0.tar.gz'
>>>>>>> 

* installing *source* package ‘MineICA’ ...
** using staged installation
** R
** data
** inst
** byte-compile and prepare package for lazy loading
Creating a new generic function for ‘sampleNames<-’ in package ‘MineICA’
** help
*** installing help indices
** building package indices
** installing vignettes
** testing if installed package can be loaded from temporary location
** testing if installed package can be loaded from final location
** testing if installed package keeps a record of temporary installation path
* DONE (MineICA)