Back to Multiple platform build/check report for BioC 3.14
ABCDEFGHIJKL[M]NOPQRSTUVWXYZ

This page was generated on 2021-07-30 12:05:05 -0400 (Fri, 30 Jul 2021).

INSTALL results for MetaboSignal on riesling1

To the developers/maintainers of the MetaboSignal package:
- Please allow up to 24 hours (and sometimes 48 hours) for your latest push to git@git.bioconductor.org:packages/MetaboSignal.git to
reflect on this report. See How and When does the builder pull? When will my changes propagate? here for more information.
- Make sure to use the following settings in order to reproduce any error or warning you see on this page.

raw results

Package 1065/2015HostnameOS / ArchINSTALLBUILDCHECKBUILD BIN
MetaboSignal 1.23.0  (landing page)
Andrea Rodriguez-Martinez
Snapshot Date: 2021-07-29 14:50:07 -0400 (Thu, 29 Jul 2021)
URL: https://git.bioconductor.org/packages/MetaboSignal
Branch: master
Last Commit: a95268c
Last Changed Date: 2021-05-19 12:22:49 -0400 (Wed, 19 May 2021)
nebbiolo2Linux (Ubuntu 20.04.2 LTS) / x86_64  OK    OK    OK  UNNEEDED, same version is already published
riesling1Windows Server 2019 Standard / x64  OK    OK    OK    OK  NO, package depends on 'KEGGgraph' which is not available
merida1macOS 10.14.6 Mojave / x86_64  OK    OK    OK    OK  UNNEEDED, same version is already published

Summary

Package: MetaboSignal
Version: 1.23.0
Command: C:\cygwin\bin\curl.exe -O http://155.52.207.166/BBS/3.14/bioc/src/contrib/MetaboSignal_1.23.0.tar.gz && rm -rf MetaboSignal.buildbin-libdir && mkdir MetaboSignal.buildbin-libdir && D:\biocbuild\bbs-3.14-bioc\R\bin\R.exe CMD INSTALL --merge-multiarch --build --library=MetaboSignal.buildbin-libdir MetaboSignal_1.23.0.tar.gz && D:\biocbuild\bbs-3.14-bioc\R\bin\R.exe CMD INSTALL MetaboSignal_1.23.0.zip && rm MetaboSignal_1.23.0.tar.gz MetaboSignal_1.23.0.zip
StartedAt: 2021-07-29 18:44:15 -0400 (Thu, 29 Jul 2021)
EndedAt: 2021-07-29 18:46:34 -0400 (Thu, 29 Jul 2021)
EllapsedTime: 139.2 seconds
RetCode: 0
Status:   OK  

Command output

##############################################################################
##############################################################################
###
### Running command:
###
###   C:\cygwin\bin\curl.exe -O http://155.52.207.166/BBS/3.14/bioc/src/contrib/MetaboSignal_1.23.0.tar.gz && rm -rf MetaboSignal.buildbin-libdir && mkdir MetaboSignal.buildbin-libdir && D:\biocbuild\bbs-3.14-bioc\R\bin\R.exe CMD INSTALL --merge-multiarch --build --library=MetaboSignal.buildbin-libdir MetaboSignal_1.23.0.tar.gz && D:\biocbuild\bbs-3.14-bioc\R\bin\R.exe CMD INSTALL MetaboSignal_1.23.0.zip && rm MetaboSignal_1.23.0.tar.gz MetaboSignal_1.23.0.zip
###
##############################################################################
##############################################################################


  % Total    % Received % Xferd  Average Speed   Time    Time     Time  Current
                                 Dload  Upload   Total   Spent    Left  Speed

  0     0    0     0    0     0      0      0 --:--:-- --:--:-- --:--:--     0
 60 2634k   60 1592k    0     0  2769k      0 --:--:-- --:--:-- --:--:-- 2764k
100 2634k  100 2634k    0     0  3224k      0 --:--:-- --:--:-- --:--:-- 3224k

install for i386

* installing *source* package 'MetaboSignal' ...
** using staged installation
** R
** data
*** moving datasets to lazyload DB
** inst
** byte-compile and prepare package for lazy loading
** help
*** installing help indices
  converting help for package 'MetaboSignal'
    finding HTML links ... done
    MS2_mergeNetworks                       html  
    MS2_ppiNetwork                          html  
    MS_changeNames                          html  
    MS_convertGene                          html  
    MS_distances                            html  
    MS_exportCytoscape                      html  
    MS_findMappedNodes                      html  
    MS_getPathIds                           html  
    MS_keggFinder                           html  
    MS_keggNetwork                          html  
    MS_nodeBW                               html  
    MS_reactionNetwork                      html  
    MS_removeDrugs                          html  
    MS_removeNode                           html  
    MS_replaceNode                          html  
    MS_shortestPaths                        html  
    MS_shortestPathsNetwork                 html  
    MS_tissueFilter                         html  
    MS_topologyFilter                       html  
    MetaboSignal_table                      html  
    directionality_reactions                html  
    hpaNormalTissue                         html  
    keggNet_example                         html  
    kegg_pathways                           html  
    mergedNet_example                       html  
    ppiNet_example                          html  
    regulatory_interactions                 html  
** building package indices
** installing vignettes
   'MetaboSignal.Rmd' using 'UTF-8' 
   'MetaboSignal2.Rmd' using 'UTF-8' 
** testing if installed package can be loaded from temporary location
** testing if installed package can be loaded from final location
** testing if installed package keeps a record of temporary installation path

install for x64

* installing *source* package 'MetaboSignal' ...
** testing if installed package can be loaded
* MD5 sums
packaged installation of 'MetaboSignal' as MetaboSignal_1.23.0.zip
* DONE (MetaboSignal)
* installing to library 'D:/biocbuild/bbs-3.14-bioc/R/library'
package 'MetaboSignal' successfully unpacked and MD5 sums checked