Back to Multiple platform build/check report for BioC 3.14
ABCDEFGHIJKL[M]NOPQRSTUVWXYZ

This page was generated on 2021-10-22 12:04:32 -0400 (Fri, 22 Oct 2021).

CHECK results for MetaboSignal on riesling1

To the developers/maintainers of the MetaboSignal package:
- Please allow up to 24 hours (and sometimes 48 hours) for your latest push to git@git.bioconductor.org:packages/MetaboSignal.git to
reflect on this report. See How and When does the builder pull? When will my changes propagate? here for more information.
- Make sure to use the following settings in order to reproduce any error or warning you see on this page.

raw results

Package 1090/2075HostnameOS / ArchINSTALLBUILDCHECKBUILD BIN
MetaboSignal 1.23.0  (landing page)
Andrea Rodriguez-Martinez
Snapshot Date: 2021-10-21 14:50:08 -0400 (Thu, 21 Oct 2021)
git_url: https://git.bioconductor.org/packages/MetaboSignal
git_branch: master
git_last_commit: a95268c
git_last_commit_date: 2021-05-19 12:22:49 -0400 (Wed, 19 May 2021)
nebbiolo2Linux (Ubuntu 20.04.2 LTS) / x86_64  OK    OK    OK  UNNEEDED, same version is already published
riesling1Windows Server 2019 Standard / x64  OK    OK    OK    OK  UNNEEDED, same version is already published
merida1macOS 10.14.6 Mojave / x86_64  OK    OK    OK    NA  

Summary

Package: MetaboSignal
Version: 1.23.0
Command: D:\biocbuild\bbs-3.14-bioc\R\bin\R.exe CMD check --force-multiarch --install=check:MetaboSignal.install-out.txt --library=D:\biocbuild\bbs-3.14-bioc\R\library --no-vignettes --timings MetaboSignal_1.23.0.tar.gz
StartedAt: 2021-10-22 01:54:22 -0400 (Fri, 22 Oct 2021)
EndedAt: 2021-10-22 02:01:17 -0400 (Fri, 22 Oct 2021)
EllapsedTime: 414.8 seconds
RetCode: 0
Status:   OK  
CheckDir: MetaboSignal.Rcheck
Warnings: 0

Command output

##############################################################################
##############################################################################
###
### Running command:
###
###   D:\biocbuild\bbs-3.14-bioc\R\bin\R.exe CMD check --force-multiarch --install=check:MetaboSignal.install-out.txt --library=D:\biocbuild\bbs-3.14-bioc\R\library --no-vignettes --timings MetaboSignal_1.23.0.tar.gz
###
##############################################################################
##############################################################################


* using log directory 'D:/biocbuild/bbs-3.14-bioc/meat/MetaboSignal.Rcheck'
* using R version 4.1.1 (2021-08-10)
* using platform: x86_64-w64-mingw32 (64-bit)
* using session charset: ISO8859-1
* using option '--no-vignettes'
* checking for file 'MetaboSignal/DESCRIPTION' ... OK
* checking extension type ... Package
* this is package 'MetaboSignal' version '1.23.0'
* package encoding: UTF-8
* checking package namespace information ... OK
* checking package dependencies ... OK
* checking if this is a source package ... OK
* checking if there is a namespace ... OK
* checking for hidden files and directories ... OK
* checking for portable file names ... OK
* checking whether package 'MetaboSignal' can be installed ... OK
* checking installed package size ... OK
* checking package directory ... OK
* checking 'build' directory ... OK
* checking DESCRIPTION meta-information ... OK
* checking top-level files ... OK
* checking for left-over files ... OK
* checking index information ... OK
* checking package subdirectories ... OK
* checking R files for non-ASCII characters ... OK
* checking R files for syntax errors ... OK
* loading checks for arch 'i386'
** checking whether the package can be loaded ... OK
** checking whether the package can be loaded with stated dependencies ... OK
** checking whether the package can be unloaded cleanly ... OK
** checking whether the namespace can be loaded with stated dependencies ... OK
** checking whether the namespace can be unloaded cleanly ... OK
* loading checks for arch 'x64'
** checking whether the package can be loaded ... OK
** checking whether the package can be loaded with stated dependencies ... OK
** checking whether the package can be unloaded cleanly ... OK
** checking whether the namespace can be loaded with stated dependencies ... OK
** checking whether the namespace can be unloaded cleanly ... OK
* checking dependencies in R code ... OK
* checking S3 generic/method consistency ... OK
* checking replacement functions ... OK
* checking foreign function calls ... OK
* checking R code for possible problems ... NOTE
MS_tissueFilter: no visible binding for global variable
  'hpaNormalTissue'
get_molecule_type: no visible binding for global variable
  'regulatory_interactions'
Undefined global functions or variables:
  hpaNormalTissue regulatory_interactions
* checking Rd files ... OK
* checking Rd metadata ... OK
* checking Rd cross-references ... OK
* checking for missing documentation entries ... OK
* checking for code/documentation mismatches ... OK
* checking Rd \usage sections ... OK
* checking Rd contents ... OK
* checking for unstated dependencies in examples ... OK
* checking contents of 'data' directory ... OK
* checking data for non-ASCII characters ... OK
* checking LazyData ... OK
* checking data for ASCII and uncompressed saves ... OK
* checking installed files from 'inst/doc' ... OK
* checking files in 'vignettes' ... OK
* checking examples ...
** running examples for arch 'i386' ... OK
** running examples for arch 'x64' ... OK
* checking for unstated dependencies in 'tests' ... OK
* checking tests ...
** running tests for arch 'i386' ...
  Running 'runTests.R'
 OK
** running tests for arch 'x64' ...
  Running 'runTests.R'
 OK
* checking for unstated dependencies in vignettes ... OK
* checking package vignettes in 'inst/doc' ... OK
* checking running R code from vignettes ... SKIPPED
* checking re-building of vignette outputs ... SKIPPED
* checking PDF version of manual ... OK
* DONE

Status: 1 NOTE
See
  'D:/biocbuild/bbs-3.14-bioc/meat/MetaboSignal.Rcheck/00check.log'
for details.



Installation output

MetaboSignal.Rcheck/00install.out

##############################################################################
##############################################################################
###
### Running command:
###
###   C:\cygwin\bin\curl.exe -O http://155.52.207.166/BBS/3.14/bioc/src/contrib/MetaboSignal_1.23.0.tar.gz && rm -rf MetaboSignal.buildbin-libdir && mkdir MetaboSignal.buildbin-libdir && D:\biocbuild\bbs-3.14-bioc\R\bin\R.exe CMD INSTALL --merge-multiarch --build --library=MetaboSignal.buildbin-libdir MetaboSignal_1.23.0.tar.gz && D:\biocbuild\bbs-3.14-bioc\R\bin\R.exe CMD INSTALL MetaboSignal_1.23.0.zip && rm MetaboSignal_1.23.0.tar.gz MetaboSignal_1.23.0.zip
###
##############################################################################
##############################################################################


  % Total    % Received % Xferd  Average Speed   Time    Time     Time  Current
                                 Dload  Upload   Total   Spent    Left  Speed

  0     0    0     0    0     0      0      0 --:--:-- --:--:-- --:--:--     0
 32 2634k   32  846k    0     0  1463k      0  0:00:01 --:--:--  0:00:01 1463k
100 2634k  100 2634k    0     0  2006k      0  0:00:01  0:00:01 --:--:-- 2006k

install for i386

* installing *source* package 'MetaboSignal' ...
** using staged installation
** R
** data
*** moving datasets to lazyload DB
** inst
** byte-compile and prepare package for lazy loading
** help
*** installing help indices
  converting help for package 'MetaboSignal'
    finding HTML links ... done
    MS2_mergeNetworks                       html  
    MS2_ppiNetwork                          html  
    MS_changeNames                          html  
    MS_convertGene                          html  
    MS_distances                            html  
    MS_exportCytoscape                      html  
    MS_findMappedNodes                      html  
    MS_getPathIds                           html  
    MS_keggFinder                           html  
    MS_keggNetwork                          html  
    MS_nodeBW                               html  
    MS_reactionNetwork                      html  
    MS_removeDrugs                          html  
    MS_removeNode                           html  
    MS_replaceNode                          html  
    MS_shortestPaths                        html  
    MS_shortestPathsNetwork                 html  
    MS_tissueFilter                         html  
    MS_topologyFilter                       html  
    MetaboSignal_table                      html  
    directionality_reactions                html  
    hpaNormalTissue                         html  
    keggNet_example                         html  
    kegg_pathways                           html  
    mergedNet_example                       html  
    ppiNet_example                          html  
    regulatory_interactions                 html  
** building package indices
** installing vignettes
   'MetaboSignal.Rmd' using 'UTF-8' 
   'MetaboSignal2.Rmd' using 'UTF-8' 
** testing if installed package can be loaded from temporary location
** testing if installed package can be loaded from final location
** testing if installed package keeps a record of temporary installation path

install for x64

* installing *source* package 'MetaboSignal' ...
** testing if installed package can be loaded
* MD5 sums
packaged installation of 'MetaboSignal' as MetaboSignal_1.23.0.zip
* DONE (MetaboSignal)
* installing to library 'D:/biocbuild/bbs-3.14-bioc/R/library'
package 'MetaboSignal' successfully unpacked and MD5 sums checked

Tests output

MetaboSignal.Rcheck/tests_i386/runTests.Rout


R version 4.1.1 (2021-08-10) -- "Kick Things"
Copyright (C) 2021 The R Foundation for Statistical Computing
Platform: i386-w64-mingw32/i386 (32-bit)

R is free software and comes with ABSOLUTELY NO WARRANTY.
You are welcome to redistribute it under certain conditions.
Type 'license()' or 'licence()' for distribution details.

R is a collaborative project with many contributors.
Type 'contributors()' for more information and
'citation()' on how to cite R or R packages in publications.

Type 'demo()' for some demos, 'help()' for on-line help, or
'help.start()' for an HTML browser interface to help.
Type 'q()' to quit R.

> BiocGenerics:::testPackage("MetaboSignal")

Note: some source_nodes or target_nodes were not mapped onto the network
Calculating distances

Building shortest path network

Note that all source_nodes and target_nodes were successfully mapped onto the network

Calculating distances

Building shortest path network

Note that all source_nodes and target_nodes were successfully mapped onto the network

Calculating distances

Building shortest path network

Note that all source_nodes and target_nodes were successfully mapped onto the network

Network features:
Number of nodes:59
Number of edges:100

Network features:
Number of nodes:59
Number of edges:100



RUNIT TEST PROTOCOL -- Fri Oct 22 01:59:18 2021 
*********************************************** 
Number of test functions: 9 
Number of errors: 0 
Number of failures: 0 

 
1 Test Suite : 
MetaboSignal RUnit Tests - 9 test functions, 0 errors, 0 failures
Number of test functions: 9 
Number of errors: 0 
Number of failures: 0 
> 
> proc.time()
   user  system elapsed 
  10.59    0.75   11.89 

MetaboSignal.Rcheck/tests_x64/runTests.Rout


R version 4.1.1 (2021-08-10) -- "Kick Things"
Copyright (C) 2021 The R Foundation for Statistical Computing
Platform: x86_64-w64-mingw32/x64 (64-bit)

R is free software and comes with ABSOLUTELY NO WARRANTY.
You are welcome to redistribute it under certain conditions.
Type 'license()' or 'licence()' for distribution details.

R is a collaborative project with many contributors.
Type 'contributors()' for more information and
'citation()' on how to cite R or R packages in publications.

Type 'demo()' for some demos, 'help()' for on-line help, or
'help.start()' for an HTML browser interface to help.
Type 'q()' to quit R.

> BiocGenerics:::testPackage("MetaboSignal")

Note: some source_nodes or target_nodes were not mapped onto the network
Calculating distances

Building shortest path network

Note that all source_nodes and target_nodes were successfully mapped onto the network

Calculating distances

Building shortest path network

Note that all source_nodes and target_nodes were successfully mapped onto the network

Calculating distances

Building shortest path network

Note that all source_nodes and target_nodes were successfully mapped onto the network

Network features:
Number of nodes:59
Number of edges:100

Network features:
Number of nodes:59
Number of edges:100



RUNIT TEST PROTOCOL -- Fri Oct 22 01:59:33 2021 
*********************************************** 
Number of test functions: 9 
Number of errors: 0 
Number of failures: 0 

 
1 Test Suite : 
MetaboSignal RUnit Tests - 9 test functions, 0 errors, 0 failures
Number of test functions: 9 
Number of errors: 0 
Number of failures: 0 
> 
> proc.time()
   user  system elapsed 
  12.93    1.03   14.54 

Example timings

MetaboSignal.Rcheck/examples_i386/MetaboSignal-Ex.timings

nameusersystemelapsed
MS2_mergeNetworks0.030.010.05
MS2_ppiNetwork0.500.050.54
MS_changeNames000
MS_convertGene0.160.010.88
MS_distances0.050.020.06
MS_exportCytoscape000
MS_findMappedNodes000
MS_getPathIds000
MS_keggFinder0.130.024.22
MS_keggNetwork000
MS_nodeBW0.010.010.03
MS_reactionNetwork000
MS_removeDrugs000
MS_removeNode0.020.000.02
MS_replaceNode000
MS_shortestPaths0.010.000.01
MS_shortestPathsNetwork000
MS_tissueFilter000
MS_topologyFilter0.170.000.18

MetaboSignal.Rcheck/examples_x64/MetaboSignal-Ex.timings

nameusersystemelapsed
MS2_mergeNetworks0.030.000.03
MS2_ppiNetwork0.810.030.85
MS_changeNames000
MS_convertGene0.030.000.77
MS_distances0.090.000.09
MS_exportCytoscape000
MS_findMappedNodes0.000.020.02
MS_getPathIds000
MS_keggFinder0.190.003.87
MS_keggNetwork000
MS_nodeBW0.020.000.02
MS_reactionNetwork000
MS_removeDrugs000
MS_removeNode000
MS_replaceNode0.030.020.05
MS_shortestPaths0.000.010.02
MS_shortestPathsNetwork000
MS_tissueFilter000
MS_topologyFilter0.140.000.14