Back to Multiple platform build/check report for BioC 3.14
ABCDEFGHIJKL[M]NOPQRSTUVWXYZ

This page was generated on 2021-07-30 12:05:05 -0400 (Fri, 30 Jul 2021).

BUILD results for MetaboSignal on riesling1

To the developers/maintainers of the MetaboSignal package:
- Please allow up to 24 hours (and sometimes 48 hours) for your latest push to git@git.bioconductor.org:packages/MetaboSignal.git to
reflect on this report. See How and When does the builder pull? When will my changes propagate? here for more information.
- Make sure to use the following settings in order to reproduce any error or warning you see on this page.

raw results

Package 1065/2015HostnameOS / ArchINSTALLBUILDCHECKBUILD BIN
MetaboSignal 1.23.0  (landing page)
Andrea Rodriguez-Martinez
Snapshot Date: 2021-07-29 14:50:07 -0400 (Thu, 29 Jul 2021)
URL: https://git.bioconductor.org/packages/MetaboSignal
Branch: master
Last Commit: a95268c
Last Changed Date: 2021-05-19 12:22:49 -0400 (Wed, 19 May 2021)
nebbiolo2Linux (Ubuntu 20.04.2 LTS) / x86_64  OK    OK    OK  UNNEEDED, same version is already published
riesling1Windows Server 2019 Standard / x64  OK    OK    OK    OK  NO, package depends on 'KEGGgraph' which is not available
merida1macOS 10.14.6 Mojave / x86_64  OK    OK    OK    OK  UNNEEDED, same version is already published

Summary

Package: MetaboSignal
Version: 1.23.0
Command: chmod a+r MetaboSignal -R && D:\biocbuild\bbs-3.14-bioc\R\bin\R.exe CMD build --keep-empty-dirs --no-resave-data MetaboSignal
StartedAt: 2021-07-29 20:57:48 -0400 (Thu, 29 Jul 2021)
EndedAt: 2021-07-29 21:01:56 -0400 (Thu, 29 Jul 2021)
EllapsedTime: 248.1 seconds
RetCode: 0
Status:   OK  
PackageFile: MetaboSignal_1.23.0.tar.gz
PackageFileSize: 2.093 MiB

Command output

##############################################################################
##############################################################################
###
### Running command:
###
###   chmod a+r MetaboSignal -R && D:\biocbuild\bbs-3.14-bioc\R\bin\R.exe CMD build --keep-empty-dirs --no-resave-data MetaboSignal
###
##############################################################################
##############################################################################


* checking for file 'MetaboSignal/DESCRIPTION' ... OK
* preparing 'MetaboSignal':
* checking DESCRIPTION meta-information ... OK
* installing the package to build vignettes
* creating vignettes ... OK
Warning: 'inst/doc' files
    'MetaboSignal.html', 'MetaboSignal2.html'
  ignored as vignettes have been rebuilt.
  Run R CMD build with --no-build-vignettes to prevent rebuilding.
* checking for LF line-endings in source and make files and shell scripts
* checking for empty or unneeded directories
* building 'MetaboSignal_1.23.0.tar.gz'