Back to Multiple platform build/check report for BioC 3.14
ABCDEFGHIJKL[M]NOPQRSTUVWXYZ

This page was generated on 2021-10-22 12:05:03 -0400 (Fri, 22 Oct 2021).

INSTALL results for MetaboSignal on merida1

To the developers/maintainers of the MetaboSignal package:
- Please allow up to 24 hours (and sometimes 48 hours) for your latest push to git@git.bioconductor.org:packages/MetaboSignal.git to
reflect on this report. See How and When does the builder pull? When will my changes propagate? here for more information.
- Make sure to use the following settings in order to reproduce any error or warning you see on this page.

raw results

Package 1090/2075HostnameOS / ArchINSTALLBUILDCHECKBUILD BIN
MetaboSignal 1.23.0  (landing page)
Andrea Rodriguez-Martinez
Snapshot Date: 2021-10-21 14:50:08 -0400 (Thu, 21 Oct 2021)
git_url: https://git.bioconductor.org/packages/MetaboSignal
git_branch: master
git_last_commit: a95268c
git_last_commit_date: 2021-05-19 12:22:49 -0400 (Wed, 19 May 2021)
nebbiolo2Linux (Ubuntu 20.04.2 LTS) / x86_64  OK    OK    OK  UNNEEDED, same version is already published
riesling1Windows Server 2019 Standard / x64  OK    OK    OK    OK  UNNEEDED, same version is already published
merida1macOS 10.14.6 Mojave / x86_64  OK    OK    OK    NA  

Summary

Package: MetaboSignal
Version: 1.23.0
Command: /Library/Frameworks/R.framework/Resources/bin/R CMD INSTALL MetaboSignal
StartedAt: 2021-10-21 18:10:26 -0400 (Thu, 21 Oct 2021)
EndedAt: 2021-10-21 18:11:29 -0400 (Thu, 21 Oct 2021)
EllapsedTime: 63.6 seconds
RetCode: 0
Status:   OK  

Command output

##############################################################################
##############################################################################
###
### Running command:
###
###   /Library/Frameworks/R.framework/Resources/bin/R CMD INSTALL MetaboSignal
###
##############################################################################
##############################################################################


* installing to library ‘/Library/Frameworks/R.framework/Versions/4.1/Resources/library’
* installing *source* package ‘MetaboSignal’ ...
** using staged installation
** R
** data
*** moving datasets to lazyload DB
** inst
** byte-compile and prepare package for lazy loading
** help
*** installing help indices
** building package indices
** installing vignettes
   ‘MetaboSignal.Rmd’ using ‘UTF-8’ 
   ‘MetaboSignal2.Rmd’ using ‘UTF-8’ 
** testing if installed package can be loaded from temporary location
** testing if installed package can be loaded from final location
** testing if installed package keeps a record of temporary installation path
* DONE (MetaboSignal)