Back to Multiple platform build/check report for BioC 3.15
ABCDEFGHIJKL[M]NOPQRSTUVWXYZ

This page was generated on 2021-11-30 13:55:00 -0500 (Tue, 30 Nov 2021).

INSTALL results for MetaCyto on riesling1

To the developers/maintainers of the MetaCyto package:
- Please allow up to 24 hours (and sometimes 48 hours) for your latest push to git@git.bioconductor.org:packages/MetaCyto.git to
reflect on this report. See How and When does the builder pull? When will my changes propagate? here for more information.
- Make sure to use the following settings in order to reproduce any error or warning you see on this page.

raw results

Package 1088/2068HostnameOS / ArchINSTALLBUILDCHECKBUILD BIN
MetaCyto 1.17.0  (landing page)
Zicheng Hu
Snapshot Date: 2021-11-29 14:50:17 -0500 (Mon, 29 Nov 2021)
git_url: https://git.bioconductor.org/packages/MetaCyto
git_branch: master
git_last_commit: a3a9965
git_last_commit_date: 2021-10-26 12:39:42 -0500 (Tue, 26 Oct 2021)
nebbiolo1Linux (Ubuntu 20.04.3 LTS) / x86_64  OK    OK    OK  UNNEEDED, same version is already published
riesling1Windows Server 2019 Standard / x64  OK    OK    OK    OK  
merida1macOS 10.14.6 Mojave / x86_64  OK    OK    OK    OK  UNNEEDED, same version is already published

Summary

Package: MetaCyto
Version: 1.17.0
Command: C:\cygwin\bin\curl.exe -O http://155.52.207.165/BBS/3.15/bioc/src/contrib/MetaCyto_1.17.0.tar.gz && rm -rf MetaCyto.buildbin-libdir && mkdir MetaCyto.buildbin-libdir && D:\biocbuild\bbs-3.15-bioc\R\bin\R.exe CMD INSTALL --merge-multiarch --build --library=MetaCyto.buildbin-libdir MetaCyto_1.17.0.tar.gz && D:\biocbuild\bbs-3.15-bioc\R\bin\R.exe CMD INSTALL MetaCyto_1.17.0.zip && rm MetaCyto_1.17.0.tar.gz MetaCyto_1.17.0.zip
StartedAt: 2021-11-29 19:49:51 -0500 (Mon, 29 Nov 2021)
EndedAt: 2021-11-29 19:50:06 -0500 (Mon, 29 Nov 2021)
EllapsedTime: 14.6 seconds
RetCode: 0
Status:   OK  

Command output

##############################################################################
##############################################################################
###
### Running command:
###
###   C:\cygwin\bin\curl.exe -O http://155.52.207.165/BBS/3.15/bioc/src/contrib/MetaCyto_1.17.0.tar.gz && rm -rf MetaCyto.buildbin-libdir && mkdir MetaCyto.buildbin-libdir && D:\biocbuild\bbs-3.15-bioc\R\bin\R.exe CMD INSTALL --merge-multiarch --build --library=MetaCyto.buildbin-libdir MetaCyto_1.17.0.tar.gz && D:\biocbuild\bbs-3.15-bioc\R\bin\R.exe CMD INSTALL MetaCyto_1.17.0.zip && rm MetaCyto_1.17.0.tar.gz MetaCyto_1.17.0.zip
###
##############################################################################
##############################################################################


  % Total    % Received % Xferd  Average Speed   Time    Time     Time  Current
                                 Dload  Upload   Total   Spent    Left  Speed

  0     0    0     0    0     0      0      0 --:--:-- --:--:-- --:--:--     0
100  914k  100  914k    0     0  2980k      0 --:--:-- --:--:-- --:--:-- 2980k
only one architecture so ignoring '--merge-multiarch'
* installing *source* package 'MetaCyto' ...
** using staged installation
** R
** inst
** byte-compile and prepare package for lazy loading
** help
*** installing help indices
  converting help for package 'MetaCyto'
    finding HTML links ... done
    autoCluster.batch                       html  
    clusterStats                            html  
    collectData                             html  
    densityPlot                             html  
    fcsInfoParser                           html  
    filterLabels                            html  
    findCutoff                              html  
    flowHC                                  html  
    flowSOM.MC                              html  
    glmAnalysis                             html  
    labelCluster                            html  
    labelSummary                            html  
    markerFinder                            html  
    metaAnalysis                            html  
    nameUpdator                             html  
    panelSummary                            html  
    plotGA                                  html  
    preprocessing                           html  
    preprocessing.batch                     html  
    sampleInfoParser                        html  
    searchCluster                           html  
    searchCluster.batch                     html  
    set2Frame                               html  
** building package indices
** installing vignettes
** testing if installed package can be loaded from temporary location
** testing if installed package can be loaded from final location
** testing if installed package keeps a record of temporary installation path
* MD5 sums
packaged installation of 'MetaCyto' as MetaCyto_1.17.0.zip
* DONE (MetaCyto)
* installing to library 'D:/biocbuild/bbs-3.15-bioc/R/library'
package 'MetaCyto' successfully unpacked and MD5 sums checked