![]() | Name | Last modified | Size | Description |
---|---|---|---|---|
![]() | Parent Directory | - | ||
![]() | buildsrc-out.txt | 03-Oct-2023 00:36 | 810 | |
![]() | buildsrc-summary.dcf | 03-Oct-2023 00:36 | 421 | |
![]() | checksrc-out.txt | 03-Oct-2023 00:36 | 4.1K | |
![]() | checksrc-summary.dcf | 03-Oct-2023 00:36 | 418 | |
![]() | install-out.txt | 03-Oct-2023 00:36 | 955 | |
![]() | install-summary.dcf | 03-Oct-2023 00:36 | 261 | |