Index of /checkResults/devel/bioc-LATEST/MetaCyto/raw-results/nebbiolo1

[ICO]NameLast modifiedSizeDescription

[DIR]Parent Directory  -  
[TXT]buildsrc-out.txt29-Feb-2024 01:36 810  
[   ]buildsrc-summary.dcf29-Feb-2024 01:36 421  
[TXT]checksrc-out.txt29-Feb-2024 01:36 4.0K 
[   ]checksrc-summary.dcf29-Feb-2024 01:36 418  
[TXT]install-out.txt29-Feb-2024 01:36 955  
[   ]install-summary.dcf29-Feb-2024 01:36 261