Index of /checkResults/devel/bioc-LATEST/MetaCyto/raw-results/kunpeng2

[ICO]NameLast modifiedSizeDescription

[DIR]Parent Directory  -  
[   ]install-summary.dcf27-Feb-2024 04:02 273  
[   ]buildsrc-summary.dcf27-Feb-2024 04:02 433  
[   ]checksrc-summary.dcf27-Feb-2024 04:02 457  
[TXT]buildsrc-out.txt27-Feb-2024 04:02 822  
[TXT]install-out.txt27-Feb-2024 04:02 1.0K 
[TXT]checksrc-out.txt27-Feb-2024 04:02 4.1K