Index of /checkResults/devel/bioc-LATEST/MetaCyto/raw-results

[ICO]NameLast modifiedSizeDescription

[DIR]Parent Directory  -  
[   ]info.dcf16-Jan-2022 01:11 264  
[DIR]merida1/16-Jan-2022 01:11 -  
[DIR]nebbiolo1/16-Jan-2022 01:06 -  
[DIR]palomino3/16-Jan-2022 01:09 -  
[DIR]riesling1/16-Jan-2022 01:07 -