Back to Multiple platform build/check report for BioC 3.17:   simplified   long
ABCDEFGHIJKL[M]NOPQRSTUVWXYZ

This page was generated on 2023-03-24 11:05:22 -0400 (Fri, 24 Mar 2023).

HostnameOSArch (*)R versionInstalled pkgs
nebbiolo1Linux (Ubuntu 22.04.1 LTS)x86_64R Under development (unstable) (2023-03-16 r83996) -- "Unsuffered Consequences" 4546
palomino3Windows Server 2022 Datacenterx64R Under development (unstable) (2023-03-15 r83984 ucrt) -- "Unsuffered Consequences" 4307
merida1macOS 10.14.6 Mojavex86_64R Under development (unstable) (2023-03-16 r83985) -- "Unsuffered Consequences" 4299
Click on any hostname to see more info about the system (e.g. compilers)      (*) as reported by 'uname -p', except on Windows and Mac OS X

CHECK results for MetaCyto on nebbiolo1


To the developers/maintainers of the MetaCyto package:
- Please allow up to 24 hours (and sometimes 48 hours) for your latest push to git@git.bioconductor.org:packages/MetaCyto.git to
reflect on this report. See How and When does the builder pull? When will my changes propagate? for more information.
- Make sure to use the following settings in order to reproduce any error or warning you see on this page.

raw results

Package 1157/2195HostnameOS / ArchINSTALLBUILDCHECKBUILD BIN
MetaCyto 1.21.0  (landing page)
Zicheng Hu
Snapshot Date: 2023-03-23 14:00:15 -0400 (Thu, 23 Mar 2023)
git_url: https://git.bioconductor.org/packages/MetaCyto
git_branch: devel
git_last_commit: e37625b
git_last_commit_date: 2022-11-01 11:16:43 -0400 (Tue, 01 Nov 2022)
nebbiolo1Linux (Ubuntu 22.04.1 LTS) / x86_64  OK    OK    OK  UNNEEDED, same version is already published
palomino3Windows Server 2022 Datacenter / x64  OK    OK    OK    OK  UNNEEDED, same version is already published
merida1macOS 10.14.6 Mojave / x86_64  OK    OK    OK    OK  UNNEEDED, same version is already published

Summary

Package: MetaCyto
Version: 1.21.0
Command: /home/biocbuild/bbs-3.17-bioc/R/bin/R CMD check --install=check:MetaCyto.install-out.txt --library=/home/biocbuild/bbs-3.17-bioc/R/site-library --timings MetaCyto_1.21.0.tar.gz
StartedAt: 2023-03-23 21:39:51 -0400 (Thu, 23 Mar 2023)
EndedAt: 2023-03-23 21:49:00 -0400 (Thu, 23 Mar 2023)
EllapsedTime: 548.8 seconds
RetCode: 0
Status:   OK  
CheckDir: MetaCyto.Rcheck
Warnings: 0

Command output

##############################################################################
##############################################################################
###
### Running command:
###
###   /home/biocbuild/bbs-3.17-bioc/R/bin/R CMD check --install=check:MetaCyto.install-out.txt --library=/home/biocbuild/bbs-3.17-bioc/R/site-library --timings MetaCyto_1.21.0.tar.gz
###
##############################################################################
##############################################################################


* using log directory ‘/home/biocbuild/bbs-3.17-bioc/meat/MetaCyto.Rcheck’
* using R Under development (unstable) (2023-03-16 r83996)
* using platform: x86_64-pc-linux-gnu (64-bit)
* R was compiled by
    gcc (Ubuntu 11.3.0-1ubuntu1~22.04) 11.3.0
    GNU Fortran (Ubuntu 11.3.0-1ubuntu1~22.04) 11.3.0
* running under: Ubuntu 22.04.2 LTS
* using session charset: UTF-8
* checking for file ‘MetaCyto/DESCRIPTION’ ... OK
* checking extension type ... Package
* this is package ‘MetaCyto’ version ‘1.21.0’
* checking package namespace information ... OK
* checking package dependencies ... OK
* checking if this is a source package ... OK
* checking if there is a namespace ... OK
* checking for hidden files and directories ... OK
* checking for portable file names ... OK
* checking for sufficient/correct file permissions ... OK
* checking whether package ‘MetaCyto’ can be installed ... OK
* checking installed package size ... OK
* checking package directory ... OK
* checking ‘build’ directory ... OK
* checking DESCRIPTION meta-information ... OK
* checking top-level files ... OK
* checking for left-over files ... OK
* checking index information ... OK
* checking package subdirectories ... OK
* checking R files for non-ASCII characters ... OK
* checking R files for syntax errors ... OK
* checking whether the package can be loaded ... OK
* checking whether the package can be loaded with stated dependencies ... OK
* checking whether the package can be unloaded cleanly ... OK
* checking whether the namespace can be loaded with stated dependencies ... OK
* checking whether the namespace can be unloaded cleanly ... OK
* checking loading without being on the library search path ... OK
* checking dependencies in R code ... OK
* checking S3 generic/method consistency ... OK
* checking replacement functions ... OK
* checking foreign function calls ... OK
* checking R code for possible problems ... NOTE
collectData: no visible binding for global variable ‘parameter_name’
collectData: no visible binding for global variable ‘value’
panelSummary: no visible binding for global variable ‘antibodies’
panelSummary: no visible binding for global variable ‘value’
plotGA: no visible binding for global variable ‘lower’
plotGA: no visible binding for global variable ‘upper’
searchCluster : <anonymous>: no visible binding for global variable
  ‘triS’
Undefined global functions or variables:
  antibodies lower parameter_name triS upper value
* checking Rd files ... OK
* checking Rd metadata ... OK
* checking Rd cross-references ... OK
* checking for missing documentation entries ... OK
* checking for code/documentation mismatches ... OK
* checking Rd \usage sections ... OK
* checking Rd contents ... OK
* checking for unstated dependencies in examples ... OK
* checking files in ‘vignettes’ ... OK
* checking examples ... OK
Examples with CPU (user + system) or elapsed time > 5s
                      user system elapsed
autoCluster.batch   87.174 10.519  97.704
labelCluster        73.862  8.780  82.642
searchCluster.batch 22.822  2.860  25.682
flowSOM.MC          10.496  0.128  10.624
searchCluster        7.954  0.616   8.571
clusterStats         6.606  1.460   8.067
densityPlot          6.741  1.096   7.838
* checking for unstated dependencies in vignettes ... OK
* checking package vignettes in ‘inst/doc’ ... OK
* checking running R code from vignettes ...
  ‘MetaCyto_Vignette.Rmd’ using ‘UTF-8’... OK
 NONE
* checking re-building of vignette outputs ... OK
* checking PDF version of manual ... OK
* DONE

Status: 1 NOTE
See
  ‘/home/biocbuild/bbs-3.17-bioc/meat/MetaCyto.Rcheck/00check.log’
for details.



Installation output

MetaCyto.Rcheck/00install.out

##############################################################################
##############################################################################
###
### Running command:
###
###   /home/biocbuild/bbs-3.17-bioc/R/bin/R CMD INSTALL MetaCyto
###
##############################################################################
##############################################################################


* installing to library ‘/home/biocbuild/bbs-3.17-bioc/R/site-library’
* installing *source* package ‘MetaCyto’ ...
** using staged installation
** R
** inst
** byte-compile and prepare package for lazy loading
** help
*** installing help indices
** building package indices
** installing vignettes
** testing if installed package can be loaded from temporary location
** testing if installed package can be loaded from final location
** testing if installed package keeps a record of temporary installation path
* DONE (MetaCyto)

Tests output


Example timings

MetaCyto.Rcheck/MetaCyto-Ex.timings

nameusersystemelapsed
autoCluster.batch87.17410.51997.704
clusterStats6.6061.4608.067
collectData0.0260.0040.032
densityPlot6.7411.0967.838
fcsInfoParser0.1250.0000.125
filterLabels0.0010.0000.002
findCutoff1.3970.4561.853
flowHC1.7400.0281.768
flowSOM.MC10.496 0.12810.624
glmAnalysis0.2430.0000.244
labelCluster73.862 8.78082.642
labelSummary0.2670.0040.270
markerFinder0.0260.0000.027
metaAnalysis0.1070.0040.111
nameUpdator1.0820.0201.102
panelSummary0.0100.0080.019
plotGA0.5730.0040.578
preprocessing0.4440.0040.447
preprocessing.batch1.1160.0001.116
sampleInfoParser0.0030.0000.004
searchCluster7.9540.6168.571
searchCluster.batch22.822 2.86025.682
set2Frame0.1080.0080.116