Back to Multiple platform build/check report for BioC 3.15
ABCDEFGHIJKL[M]NOPQRSTUVWXYZ

This page was generated on 2021-11-27 14:05:44 -0500 (Sat, 27 Nov 2021).

BUILD results for MetaCyto on merida1

To the developers/maintainers of the MetaCyto package:
- Please allow up to 24 hours (and sometimes 48 hours) for your latest push to git@git.bioconductor.org:packages/MetaCyto.git to
reflect on this report. See How and When does the builder pull? When will my changes propagate? here for more information.
- Make sure to use the following settings in order to reproduce any error or warning you see on this page.

raw results

Package 1088/2068HostnameOS / ArchINSTALLBUILDCHECKBUILD BIN
MetaCyto 1.17.0  (landing page)
Zicheng Hu
Snapshot Date: 2021-11-26 14:50:14 -0500 (Fri, 26 Nov 2021)
git_url: https://git.bioconductor.org/packages/MetaCyto
git_branch: master
git_last_commit: a3a9965
git_last_commit_date: 2021-10-26 12:39:42 -0500 (Tue, 26 Oct 2021)
nebbiolo1Linux (Ubuntu 20.04.3 LTS) / x86_64  OK    OK    OK  UNNEEDED, same version is already published
riesling1Windows Server 2019 Standard / x64  OK    OK    OK    OK  
merida1macOS 10.14.6 Mojave / x86_64  OK    OK    OK    OK  UNNEEDED, same version is already published

Summary

Package: MetaCyto
Version: 1.17.0
Command: /Library/Frameworks/R.framework/Resources/bin/R CMD build --keep-empty-dirs --no-resave-data MetaCyto
StartedAt: 2021-11-26 20:59:47 -0500 (Fri, 26 Nov 2021)
EndedAt: 2021-11-26 21:03:51 -0500 (Fri, 26 Nov 2021)
EllapsedTime: 244.0 seconds
RetCode: 0
Status:   OK  
PackageFile: MetaCyto_1.17.0.tar.gz
PackageFileSize: 970.5 KiB

Command output

##############################################################################
##############################################################################
###
### Running command:
###
###   /Library/Frameworks/R.framework/Resources/bin/R CMD build --keep-empty-dirs --no-resave-data MetaCyto
###
##############################################################################
##############################################################################


* checking for file ‘MetaCyto/DESCRIPTION’ ... OK
* preparing ‘MetaCyto’:
* checking DESCRIPTION meta-information ... OK
* installing the package to build vignettes
* creating vignettes ... OK
* checking for LF line-endings in source and make files and shell scripts
* checking for empty or unneeded directories
* building ‘MetaCyto_1.17.0.tar.gz’