Index of /checkResults/devel/bioc-LATEST/Melissa/raw-results/palomino4

[ICO]NameLast modifiedSizeDescription

[DIR]Parent Directory  -  
[TXT]install-out.txt12-Jun-2024 04:40 1.0K 
[   ]install-summary.dcf12-Jun-2024 04:40 268  
[TXT]buildsrc-out.txt12-Jun-2024 04:40 839  
[   ]buildsrc-summary.dcf12-Jun-2024 04:40 453  
[   ]checksrc-summary.dcf12-Jun-2024 04:40 447  
[TXT]checksrc-out.txt12-Jun-2024 04:40 3.5K 
[TXT]buildbin-out.txt12-Jun-2024 04:40 1.1K 
[   ]buildbin-summary.dcf12-Jun-2024 04:40 515