Index of /checkResults/devel/bioc-LATEST/Melissa/raw-results/nebbiolo2

[ICO]NameLast modifiedSizeDescription

[DIR]Parent Directory  -  
[   ]install-summary.dcf26-Jul-2024 00:38 259  
[TXT]install-out.txt26-Jul-2024 00:38 1.0K 
[   ]checksrc-summary.dcf26-Jul-2024 00:38 414  
[TXT]checksrc-out.txt26-Jul-2024 00:38 3.5K 
[   ]buildsrc-summary.dcf26-Jul-2024 00:38 424  
[TXT]buildsrc-out.txt26-Jul-2024 00:38 830