Back to Multiple platform build/check report for BioC 3.20:   simplified   long
ABCDEFGHIJKL[M]NOPQRSTUVWXYZ

This page was generated on 2024-05-22 11:35:23 -0400 (Wed, 22 May 2024).

HostnameOSArch (*)R versionInstalled pkgs
nebbiolo2Linux (Ubuntu 22.04.3 LTS)x86_644.4.0 RC (2024-04-16 r86468) -- "Puppy Cup" 4665
palomino4Windows Server 2022 Datacenterx644.4.0 RC (2024-04-16 r86468 ucrt) -- "Puppy Cup" 4400
merida1macOS 12.7.4 Montereyx86_644.4.0 Patched (2024-04-24 r86482) -- "Puppy Cup" 4427
Click on any hostname to see more info about the system (e.g. compilers)      (*) as reported by 'uname -p', except on Windows and Mac OS X

All results for package MatrixGenerics


To the developers/maintainers of the MatrixGenerics package:
- Allow up to 24 hours (and sometimes 48 hours) for your latest push to git@git.bioconductor.org:packages/MatrixGenerics.git to reflect on this report. See Troubleshooting Build Report for more information.
- Use the following Renviron settings to reproduce errors and warnings.
- If 'R CMD check' started to fail recently on the Linux builder(s) over a missing dependency, add the missing dependency to 'Suggests:' in your DESCRIPTION file. See Renviron.bioc for more information.

raw results

Package 1135/2233HostnameOS / ArchINSTALLBUILDCHECKBUILD BIN
MatrixGenerics 1.17.0  (landing page)
Peter Hickey
Snapshot Date: 2024-05-20 14:05:07 -0400 (Mon, 20 May 2024)
git_url: https://git.bioconductor.org/packages/MatrixGenerics
git_branch: devel
git_last_commit: de9be73
git_last_commit_date: 2024-04-30 11:22:36 -0400 (Tue, 30 Apr 2024)
nebbiolo2Linux (Ubuntu 22.04.3 LTS) / x86_64  OK    OK    OK  UNNEEDED, same version is already published
palomino4Windows Server 2022 Datacenter / x64  OK    OK    OK    OK  UNNEEDED, same version is already published
merida1macOS 12.7.4 Monterey / x86_64  OK    OK    OK    OK  UNNEEDED, same version is already published
kjohnson1macOS 13.6.6 Ventura / arm64see weekly results here

Results for Bioconductor software packages that depend directly on package MatrixGenerics

QUICK STATSOS / ArchINSTALLBUILDCHECKBUILD BIN
nebbiolo2Linux (Ubuntu 22.04.3 LTS) / x86_64
0043
0142
00735
palomino4Windows Server 2022 Datacenter / x64
0042
0042
00834
0042
merida1macOS 12.7.4 Monterey / x86_64
0142
0340
20731
0040
Package 1/43HostnameOS / ArchINSTALLBUILDCHECKBUILD BIN
atena 1.11.0  (landing page)
Robert Castelo
git_last_commit: 404c873
git_last_commit_date: 2024-04-30 11:37:21 -0400
nebbiolo2Linux (Ubuntu 22.04.3 LTS) / x86_64  OK    OK    OK  UNNEEDED, same version is already published
palomino4Windows Server 2022 Datacenter / x64  OK    OK    OK    OK  UNNEEDED, same version is already published
merida1macOS 12.7.4 Monterey / x86_64  OK    OK    OK    OK  UNNEEDED, same version is already published
kjohnson1macOS 13.6.6 Ventura / arm64see weekly results here
Package 2/43HostnameOS / ArchINSTALLBUILDCHECKBUILD BIN
CoreGx 2.9.0  (landing page)
Benjamin Haibe-Kains
git_last_commit: f467415
git_last_commit_date: 2024-04-30 11:23:55 -0400
nebbiolo2Linux (Ubuntu 22.04.3 LTS) / x86_64  OK    OK    OK  UNNEEDED, same version is already published
palomino4Windows Server 2022 Datacenter / x64  OK    OK    OK    OK  UNNEEDED, same version is already published
merida1macOS 12.7.4 Monterey / x86_64  OK    OK    OK    OK  UNNEEDED, same version is already published
kjohnson1macOS 13.6.6 Ventura / arm64see weekly results here
Package 3/43HostnameOS / ArchINSTALLBUILDCHECKBUILD BIN
crisprDesign 1.7.0  (landing page)
Jean-Philippe Fortin
git_last_commit: 00a6fdc
git_last_commit_date: 2024-04-30 11:43:47 -0400
nebbiolo2Linux (Ubuntu 22.04.3 LTS) / x86_64  OK    OK    OK  UNNEEDED, same version is already published
palomino4Windows Server 2022 Datacenter / x64  OK    OK    OK    OK  UNNEEDED, same version is already published
merida1macOS 12.7.4 Monterey / x86_64  OK    OK    OK    OK  UNNEEDED, same version is already published
kjohnson1macOS 13.6.6 Ventura / arm64see weekly results here
Package 4/43HostnameOS / ArchINSTALLBUILDCHECKBUILD BIN
CTexploreR 1.1.0  (landing page)
Axelle Loriot
git_last_commit: da2dcf3
git_last_commit_date: 2024-04-30 11:53:09 -0400
nebbiolo2Linux (Ubuntu 22.04.3 LTS) / x86_64  OK    OK    OK  UNNEEDED, same version is already published
palomino4Windows Server 2022 Datacenter / x64  OK    OK    OK    OK  UNNEEDED, same version is already published
merida1macOS 12.7.4 Monterey / x86_64  OK    OK    OK    OK  UNNEEDED, same version is already published
kjohnson1macOS 13.6.6 Ventura / arm64see weekly results here
Package 5/43HostnameOS / ArchINSTALLBUILDCHECKBUILD BIN
DelayedArray 0.31.1  (landing page)
Hervé Pagès
git_last_commit: 539b783
git_last_commit_date: 2024-05-06 19:22:25 -0400
nebbiolo2Linux (Ubuntu 22.04.3 LTS) / x86_64  OK    OK    WARNINGS  UNNEEDED, same version is already published
palomino4Windows Server 2022 Datacenter / x64  OK    OK    WARNINGS    OK  UNNEEDED, same version is already published
merida1macOS 12.7.4 Monterey / x86_64  OK    OK    WARNINGS    OK  UNNEEDED, same version is already published
kjohnson1macOS 13.6.6 Ventura / arm64see weekly results here
Package 6/43HostnameOS / ArchINSTALLBUILDCHECKBUILD BIN
DelayedMatrixStats 1.27.0  (landing page)
Peter Hickey
git_last_commit: cee2cf6
git_last_commit_date: 2024-04-30 11:01:46 -0400
nebbiolo2Linux (Ubuntu 22.04.3 LTS) / x86_64  OK    OK    OK  UNNEEDED, same version is already published
palomino4Windows Server 2022 Datacenter / x64  OK    OK    OK    OK  UNNEEDED, same version is already published
merida1macOS 12.7.4 Monterey / x86_64  OK    OK    OK    OK  UNNEEDED, same version is already published
kjohnson1macOS 13.6.6 Ventura / arm64see weekly results here
Package 7/43HostnameOS / ArchINSTALLBUILDCHECKBUILD BIN
demuxSNP 1.3.0  (landing page)
Michael Lynch
git_last_commit: b9fcdaf
git_last_commit_date: 2024-04-30 11:49:40 -0400
nebbiolo2Linux (Ubuntu 22.04.3 LTS) / x86_64  OK    OK    OK  UNNEEDED, same version is already published
palomino4Windows Server 2022 Datacenter / x64  OK    OK    OK    OK  UNNEEDED, same version is already published
merida1macOS 12.7.4 Monterey / x86_64  OK    OK    OK    OK  UNNEEDED, same version is already published
kjohnson1macOS 13.6.6 Ventura / arm64see weekly results here
Package 8/43HostnameOS / ArchINSTALLBUILDCHECKBUILD BIN
DESeq2 1.45.0  (landing page)
Michael Love
git_last_commit: 182d456
git_last_commit_date: 2024-04-30 10:30:41 -0400
nebbiolo2Linux (Ubuntu 22.04.3 LTS) / x86_64  OK    OK    OK  UNNEEDED, same version is already published
palomino4Windows Server 2022 Datacenter / x64  OK    OK    OK    OK  UNNEEDED, same version is already published
merida1macOS 12.7.4 Monterey / x86_64  OK    OK    OK    OK  UNNEEDED, same version is already published
kjohnson1macOS 13.6.6 Ventura / arm64see weekly results here
Package 9/43HostnameOS / ArchINSTALLBUILDCHECKBUILD BIN
dreamlet 1.3.0  (landing page)
Gabriel Hoffman
git_last_commit: cf98b09
git_last_commit_date: 2024-04-30 11:51:18 -0400
nebbiolo2Linux (Ubuntu 22.04.3 LTS) / x86_64  OK    OK    OK  UNNEEDED, same version is already published
palomino4Windows Server 2022 Datacenter / x64  OK    OK    OK    OK  UNNEEDED, same version is already published
merida1macOS 12.7.4 Monterey / x86_64  OK    OK    OK    OK  UNNEEDED, same version is already published
kjohnson1macOS 13.6.6 Ventura / arm64see weekly results here
Package 10/43HostnameOS / ArchINSTALLBUILDCHECKBUILD BIN
escape 2.1.0  (landing page)
Nick Borcherding
git_last_commit: dbea780
git_last_commit_date: 2024-04-30 11:25:33 -0400
nebbiolo2Linux (Ubuntu 22.04.3 LTS) / x86_64  OK    OK    OK  UNNEEDED, same version is already published
palomino4Windows Server 2022 Datacenter / x64  OK    OK    OK    OK  UNNEEDED, same version is already published
merida1macOS 12.7.4 Monterey / x86_64  OK    OK    OK    OK  UNNEEDED, same version is already published
kjohnson1macOS 13.6.6 Ventura / arm64see weekly results here
Package 11/43HostnameOS / ArchINSTALLBUILDCHECKBUILD BIN
genefilter 1.87.0  (landing page)
Bioconductor Package Maintainer
git_last_commit: 1bff583
git_last_commit_date: 2024-04-30 10:10:51 -0400
nebbiolo2Linux (Ubuntu 22.04.3 LTS) / x86_64  OK    OK    WARNINGS  UNNEEDED, same version is already published
palomino4Windows Server 2022 Datacenter / x64  OK    OK    WARNINGS    OK  UNNEEDED, same version is already published
merida1macOS 12.7.4 Monterey / x86_64  OK    OK    WARNINGS    OK  UNNEEDED, same version is already published
kjohnson1macOS 13.6.6 Ventura / arm64see weekly results here
Package 12/43HostnameOS / ArchINSTALLBUILDCHECKBUILD BIN
GenomicFiles 1.41.0  (landing page)
Bioconductor Package Maintainer
git_last_commit: 794aad2
git_last_commit_date: 2024-04-30 10:36:19 -0400
nebbiolo2Linux (Ubuntu 22.04.3 LTS) / x86_64  OK    OK    WARNINGS  UNNEEDED, same version is already published
palomino4Windows Server 2022 Datacenter / x64  OK    OK    WARNINGS    OK  UNNEEDED, same version is already published
merida1macOS 12.7.4 Monterey / x86_64  OK    OK    WARNINGS    OK  UNNEEDED, same version is already published
kjohnson1macOS 13.6.6 Ventura / arm64see weekly results here
Package 13/43HostnameOS / ArchINSTALLBUILDCHECKBUILD BIN
glmGamPoi 1.17.0  (landing page)
Constantin Ahlmann-Eltze
git_last_commit: d07de0f
git_last_commit_date: 2024-04-30 11:22:42 -0400
nebbiolo2Linux (Ubuntu 22.04.3 LTS) / x86_64  OK    OK    OK  UNNEEDED, same version is already published
palomino4Windows Server 2022 Datacenter / x64  OK    OK    OK    OK  UNNEEDED, same version is already published
merida1macOS 12.7.4 Monterey / x86_64  OK    OK    OK    OK  UNNEEDED, same version is already published
kjohnson1macOS 13.6.6 Ventura / arm64see weekly results here
Package 14/43HostnameOS / ArchINSTALLBUILDCHECKBUILD BIN
imcRtools 1.11.0  (landing page)
Daniel Schulz
git_last_commit: ddbfcd9
git_last_commit_date: 2024-04-30 11:37:34 -0400
nebbiolo2Linux (Ubuntu 22.04.3 LTS) / x86_64  OK    OK    OK  UNNEEDED, same version is already published
palomino4Windows Server 2022 Datacenter / x64  OK    OK    OK    OK  UNNEEDED, same version is already published
merida1macOS 12.7.4 Monterey / x86_64  OK    OK    TIMEOUT    OK  
kjohnson1macOS 13.6.6 Ventura / arm64see weekly results here
Package 15/43HostnameOS / ArchINSTALLBUILDCHECKBUILD BIN
lemur 1.3.0  (landing page)
Constantin Ahlmann-Eltze
git_last_commit: 78323e1
git_last_commit_date: 2024-04-30 11:52:37 -0400
nebbiolo2Linux (Ubuntu 22.04.3 LTS) / x86_64  OK    OK    OK  UNNEEDED, same version is already published
palomino4Windows Server 2022 Datacenter / x64  OK    OK    OK    OK  UNNEEDED, same version is already published
merida1macOS 12.7.4 Monterey / x86_64  OK    OK    OK    OK  UNNEEDED, same version is already published
kjohnson1macOS 13.6.6 Ventura / arm64see weekly results here
Package 16/43HostnameOS / ArchINSTALLBUILDCHECKBUILD BIN
lineagespot 1.9.0  (landing page)
Nikolaos Pechlivanis
git_last_commit: ae4993e
git_last_commit_date: 2024-04-30 11:40:16 -0400
nebbiolo2Linux (Ubuntu 22.04.3 LTS) / x86_64  OK    OK    OK  UNNEEDED, same version is already published
palomino4Windows Server 2022 Datacenter / x64  OK    OK    OK    OK  UNNEEDED, same version is already published
merida1macOS 12.7.4 Monterey / x86_64  OK    OK    OK    OK  UNNEEDED, same version is already published
kjohnson1macOS 13.6.6 Ventura / arm64see weekly results here
Package 17/43HostnameOS / ArchINSTALLBUILDCHECKBUILD BIN
mia 1.13.0  (landing page)
Tuomas Borman
git_last_commit: f257732
git_last_commit_date: 2024-04-30 11:32:24 -0400
nebbiolo2Linux (Ubuntu 22.04.3 LTS) / x86_64  OK    OK    OK  UNNEEDED, same version is already published
palomino4Windows Server 2022 Datacenter / x64  OK    OK    OK    OK  UNNEEDED, same version is already published
merida1macOS 12.7.4 Monterey / x86_64  OK    OK    TIMEOUT    OK  
kjohnson1macOS 13.6.6 Ventura / arm64see weekly results here
Package 18/43HostnameOS / ArchINSTALLBUILDCHECKBUILD BIN
miaSim 1.11.0  (landing page)
Yagmur Simsek
git_last_commit: 20f6cb7
git_last_commit_date: 2024-04-30 11:38:22 -0400
nebbiolo2Linux (Ubuntu 22.04.3 LTS) / x86_64  OK    ERROR  skipped
palomino4Windows Server 2022 Datacenter / x64  OK    OK    OK    OK  UNNEEDED, same version is already published
merida1macOS 12.7.4 Monterey / x86_64  OK    OK    OK    OK  UNNEEDED, same version is already published
kjohnson1macOS 13.6.6 Ventura / arm64see weekly results here
Package 19/43HostnameOS / ArchINSTALLBUILDCHECKBUILD BIN
miloR 2.1.0  (landing page)
Mike Morgan
git_last_commit: 15c14c9
git_last_commit_date: 2024-04-30 11:34:02 -0400
nebbiolo2Linux (Ubuntu 22.04.3 LTS) / x86_64  OK    OK    OK  UNNEEDED, same version is already published
palomino4Windows Server 2022 Datacenter / x64  OK    OK    OK    OK  UNNEEDED, same version is already published
merida1macOS 12.7.4 Monterey / x86_64  OK    OK    OK    OK  UNNEEDED, same version is already published
kjohnson1macOS 13.6.6 Ventura / arm64see weekly results here
Package 20/43HostnameOS / ArchINSTALLBUILDCHECKBUILD BIN
MinimumDistance 1.49.0  (landing page)
Robert Scharpf
git_last_commit: 9a42cf5
git_last_commit_date: 2024-04-30 10:27:38 -0400
nebbiolo2Linux (Ubuntu 22.04.3 LTS) / x86_64  OK    OK    WARNINGS  UNNEEDED, same version is already published
palomino4Windows Server 2022 Datacenter / x64  OK    OK    WARNINGS    OK  UNNEEDED, same version is already published
merida1macOS 12.7.4 Monterey / x86_64  OK    OK    WARNINGS    OK  UNNEEDED, same version is already published
kjohnson1macOS 13.6.6 Ventura / arm64see weekly results here
Package 21/43HostnameOS / ArchINSTALLBUILDCHECKBUILD BIN
PDATK 1.13.0  (landing page)
Benjamin Haibe-Kains
git_last_commit: e15f1cf
git_last_commit_date: 2024-04-30 11:31:36 -0400
nebbiolo2Linux (Ubuntu 22.04.3 LTS) / x86_64  OK    OK    WARNINGS  UNNEEDED, same version is already published
palomino4Windows Server 2022 Datacenter / x64  OK    OK    WARNINGS    OK  UNNEEDED, same version is already published
merida1macOS 12.7.4 Monterey / x86_64  OK    OK    WARNINGS    OK  UNNEEDED, same version is already published
kjohnson1macOS 13.6.6 Ventura / arm64see weekly results here
Package 22/43HostnameOS / ArchINSTALLBUILDCHECKBUILD BIN
RaggedExperiment 1.29.0  (landing page)
Marcel Ramos
git_last_commit: 5c3ad3b
git_last_commit_date: 2024-04-30 10:57:31 -0400
nebbiolo2Linux (Ubuntu 22.04.3 LTS) / x86_64  OK    OK    OK  UNNEEDED, same version is already published
palomino4Windows Server 2022 Datacenter / x64  OK    OK    OK    OK  UNNEEDED, same version is already published
merida1macOS 12.7.4 Monterey / x86_64  OK    OK    OK    OK  UNNEEDED, same version is already published
kjohnson1macOS 13.6.6 Ventura / arm64see weekly results here
Package 23/43HostnameOS / ArchINSTALLBUILDCHECKBUILD BIN
RAIDS 1.3.0  (landing page)
Pascal Belleau
git_last_commit: 8c31b43
git_last_commit_date: 2024-04-30 11:51:55 -0400
nebbiolo2Linux (Ubuntu 22.04.3 LTS) / x86_64  OK    OK    OK  UNNEEDED, same version is already published
palomino4Windows Server 2022 Datacenter / x64  OK    OK    OK    OK  UNNEEDED, same version is already published
merida1macOS 12.7.4 Monterey / x86_64  OK    OK    OK    OK  UNNEEDED, same version is already published
kjohnson1macOS 13.6.6 Ventura / arm64see weekly results here
Package 24/43HostnameOS / ArchINSTALLBUILDCHECKBUILD BIN
RCSL 1.13.0  (landing page)
Qinglin Mei
git_last_commit: 124b95a
git_last_commit_date: 2024-04-30 11:35:11 -0400
nebbiolo2Linux (Ubuntu 22.04.3 LTS) / x86_64  OK    OK    OK  UNNEEDED, same version is already published
palomino4Windows Server 2022 Datacenter / x64  OK    OK    OK    OK  UNNEEDED, same version is already published
merida1macOS 12.7.4 Monterey / x86_64  OK    OK    OK    OK  UNNEEDED, same version is already published
kjohnson1macOS 13.6.6 Ventura / arm64see weekly results here
Package 25/43HostnameOS / ArchINSTALLBUILDCHECKBUILD BIN
saseR 1.1.0  (landing page)
Alexandre Segers
git_last_commit: a1754de
git_last_commit_date: 2024-04-30 11:53:31 -0400
nebbiolo2Linux (Ubuntu 22.04.3 LTS) / x86_64  OK    OK    WARNINGS  UNNEEDED, same version is already published
palomino4Windows Server 2022 Datacenter / x64  OK    OK    WARNINGS    OK  UNNEEDED, same version is already published
merida1macOS 12.7.4 Monterey / x86_64  OK    OK    WARNINGS    OK  UNNEEDED, same version is already published
kjohnson1macOS 13.6.6 Ventura / arm64see weekly results here
Package 26/43HostnameOS / ArchINSTALLBUILDCHECKBUILD BIN
scater 1.33.0  (landing page)
Alan O'Callaghan
git_last_commit: 483f942
git_last_commit_date: 2024-04-30 10:48:21 -0400
nebbiolo2Linux (Ubuntu 22.04.3 LTS) / x86_64  OK    OK    OK  UNNEEDED, same version is already published
palomino4Windows Server 2022 Datacenter / x64  OK    OK    OK    OK  UNNEEDED, same version is already published
merida1macOS 12.7.4 Monterey / x86_64  OK    OK    OK    OK  UNNEEDED, same version is already published
kjohnson1macOS 13.6.6 Ventura / arm64see weekly results here
Package 27/43HostnameOS / ArchINSTALLBUILDCHECKBUILD BIN
scFeatures 1.5.0  (landing page)
Yue Cao
git_last_commit: 030b7be
git_last_commit_date: 2024-04-30 11:47:00 -0400
nebbiolo2Linux (Ubuntu 22.04.3 LTS) / x86_64  OK    OK    OK  UNNEEDED, same version is already published
palomino4Windows Server 2022 Datacenter / x64  OK    OK    OK    OK  UNNEEDED, same version is already published
merida1macOS 12.7.4 Monterey / x86_64  OK    OK    OK    OK  UNNEEDED, same version is already published
kjohnson1macOS 13.6.6 Ventura / arm64see weekly results here
Package 28/43HostnameOS / ArchINSTALLBUILDCHECKBUILD BIN
scone 1.29.0  (landing page)
Davide Risso
git_last_commit: 91519d5
git_last_commit_date: 2024-04-30 10:55:37 -0400
nebbiolo2Linux (Ubuntu 22.04.3 LTS) / x86_64  OK    OK    OK  UNNEEDED, same version is already published
palomino4Windows Server 2022 Datacenter / x64  OK    OK    OK    OK  UNNEEDED, same version is already published
merida1macOS 12.7.4 Monterey / x86_64  OK    OK    OK    OK  UNNEEDED, same version is already published
kjohnson1macOS 13.6.6 Ventura / arm64see weekly results here
Package 29/43HostnameOS / ArchINSTALLBUILDCHECKBUILD BIN
scPCA 1.19.0  (landing page)
Philippe Boileau
git_last_commit: dd18d37
git_last_commit_date: 2024-04-30 11:18:48 -0400
nebbiolo2Linux (Ubuntu 22.04.3 LTS) / x86_64  OK    OK    OK  UNNEEDED, same version is already published
palomino4Windows Server 2022 Datacenter / x64  OK    OK    OK    OK  UNNEEDED, same version is already published
merida1macOS 12.7.4 Monterey / x86_64  OK    OK    OK    OK  UNNEEDED, same version is already published
kjohnson1macOS 13.6.6 Ventura / arm64see weekly results here
Package 30/43HostnameOS / ArchINSTALLBUILDCHECKBUILD BIN
scviR 1.5.0  (landing page)
Vincent Carey
git_last_commit: ff7fb36
git_last_commit_date: 2024-04-30 11:47:51 -0400
nebbiolo2Linux (Ubuntu 22.04.3 LTS) / x86_64  OK    OK    OK  UNNEEDED, same version is already published
palomino4Windows Server 2022 Datacenter / x64... NOT SUPPORTED ...
merida1macOS 12.7.4 Monterey / x86_64  OK    ERROR  skippedskipped
kjohnson1macOS 13.6.6 Ventura / arm64see weekly results here
Package 31/43HostnameOS / ArchINSTALLBUILDCHECKBUILD BIN
shinyMethyl 1.41.0  (landing page)
Jean-Philippe Fortin
git_last_commit: 43d63c9
git_last_commit_date: 2024-04-30 10:37:25 -0400
nebbiolo2Linux (Ubuntu 22.04.3 LTS) / x86_64  OK    OK    OK  UNNEEDED, same version is already published
palomino4Windows Server 2022 Datacenter / x64  OK    OK    OK    OK  UNNEEDED, same version is already published
merida1macOS 12.7.4 Monterey / x86_64  OK    OK    OK    OK  UNNEEDED, same version is already published
kjohnson1macOS 13.6.6 Ventura / arm64see weekly results here
Package 32/43HostnameOS / ArchINSTALLBUILDCHECKBUILD BIN
SparseArray 1.5.5  (landing page)
Hervé Pagès
git_last_commit: b41d931
git_last_commit_date: 2024-05-20 14:03:49 -0400
nebbiolo2Linux (Ubuntu 22.04.3 LTS) / x86_64  OK    OK    OK  YES
palomino4Windows Server 2022 Datacenter / x64  OK    OK    WARNINGS    OK  YES
merida1macOS 12.7.4 Monterey / x86_64  ERROR    ERROR  skippedskipped
kjohnson1macOS 13.6.6 Ventura / arm64see weekly results here
Package 33/43HostnameOS / ArchINSTALLBUILDCHECKBUILD BIN
sparseMatrixStats 1.17.0  (landing page)
Constantin Ahlmann-Eltze
git_last_commit: 18cae8f
git_last_commit_date: 2024-04-30 11:22:33 -0400
nebbiolo2Linux (Ubuntu 22.04.3 LTS) / x86_64  OK    OK    OK  UNNEEDED, same version is already published
palomino4Windows Server 2022 Datacenter / x64  OK    OK    OK    OK  UNNEEDED, same version is already published
merida1macOS 12.7.4 Monterey / x86_64  OK    OK    OK    OK  UNNEEDED, same version is already published
kjohnson1macOS 13.6.6 Ventura / arm64see weekly results here
Package 34/43HostnameOS / ArchINSTALLBUILDCHECKBUILD BIN
spatzie 1.11.0  (landing page)
Jennifer Hammelman
git_last_commit: dbb1e32
git_last_commit_date: 2024-04-30 11:36:15 -0400
nebbiolo2Linux (Ubuntu 22.04.3 LTS) / x86_64  OK    OK    OK  UNNEEDED, same version is already published
palomino4Windows Server 2022 Datacenter / x64  OK    OK    OK    OK  UNNEEDED, same version is already published
merida1macOS 12.7.4 Monterey / x86_64  OK    OK    OK    OK  UNNEEDED, same version is already published
kjohnson1macOS 13.6.6 Ventura / arm64see weekly results here
Package 35/43HostnameOS / ArchINSTALLBUILDCHECKBUILD BIN
SummarizedExperiment 1.35.0  (landing page)
Hervé Pagès
git_last_commit: b5b7041
git_last_commit_date: 2024-04-30 14:50:20 -0400
nebbiolo2Linux (Ubuntu 22.04.3 LTS) / x86_64  OK    OK    OK  UNNEEDED, same version is already published
palomino4Windows Server 2022 Datacenter / x64  OK    OK    OK    OK  UNNEEDED, same version is already published
merida1macOS 12.7.4 Monterey / x86_64  OK    OK    OK    OK  UNNEEDED, same version is already published
kjohnson1macOS 13.6.6 Ventura / arm64see weekly results here
Package 36/43HostnameOS / ArchINSTALLBUILDCHECKBUILD BIN
tadar 1.3.0  (landing page)
Lachlan Baer
git_last_commit: 61ecdbe
git_last_commit_date: 2024-04-30 11:51:44 -0400
nebbiolo2Linux (Ubuntu 22.04.3 LTS) / x86_64  OK    OK    OK  UNNEEDED, same version is already published
palomino4Windows Server 2022 Datacenter / x64  OK    OK    OK    OK  UNNEEDED, same version is already published
merida1macOS 12.7.4 Monterey / x86_64  OK    OK    OK    OK  UNNEEDED, same version is already published
kjohnson1macOS 13.6.6 Ventura / arm64see weekly results here
Package 37/43HostnameOS / ArchINSTALLBUILDCHECKBUILD BIN
TENxIO 1.7.0  (landing page)
Marcel Ramos
git_last_commit: 79a7378
git_last_commit_date: 2024-04-30 11:45:22 -0400
nebbiolo2Linux (Ubuntu 22.04.3 LTS) / x86_64  OK    OK    OK  UNNEEDED, same version is already published
palomino4Windows Server 2022 Datacenter / x64  OK    OK    OK    OK  UNNEEDED, same version is already published
merida1macOS 12.7.4 Monterey / x86_64  OK    ERROR  skippedskipped
kjohnson1macOS 13.6.6 Ventura / arm64see weekly results here
Package 38/43HostnameOS / ArchINSTALLBUILDCHECKBUILD BIN
tLOH 1.13.0  (landing page)
Michelle Webb
git_last_commit: 37d6f12
git_last_commit_date: 2024-04-30 11:33:45 -0400
nebbiolo2Linux (Ubuntu 22.04.3 LTS) / x86_64  OK    OK    OK  UNNEEDED, same version is already published
palomino4Windows Server 2022 Datacenter / x64  OK    OK    OK    OK  UNNEEDED, same version is already published
merida1macOS 12.7.4 Monterey / x86_64  OK    OK    OK    OK  UNNEEDED, same version is already published
kjohnson1macOS 13.6.6 Ventura / arm64see weekly results here
Package 39/43HostnameOS / ArchINSTALLBUILDCHECKBUILD BIN
tpSVG 1.1.0  (landing page)
Boyi Guo
git_last_commit: f0cabc5
git_last_commit_date: 2024-04-30 11:54:40 -0400
nebbiolo2Linux (Ubuntu 22.04.3 LTS) / x86_64  OK    OK    OK  UNNEEDED, same version is already published
palomino4Windows Server 2022 Datacenter / x64  OK    OK    OK    OK  UNNEEDED, same version is already published
merida1macOS 12.7.4 Monterey / x86_64  OK    OK    OK    OK  UNNEEDED, same version is already published
kjohnson1macOS 13.6.6 Ventura / arm64see weekly results here
Package 40/43HostnameOS / ArchINSTALLBUILDCHECKBUILD BIN
transformGamPoi 1.11.0  (landing page)
Constantin Ahlmann-Eltze
git_last_commit: 281d3ea
git_last_commit_date: 2024-04-30 11:37:13 -0400
nebbiolo2Linux (Ubuntu 22.04.3 LTS) / x86_64  OK    OK    OK  UNNEEDED, same version is already published
palomino4Windows Server 2022 Datacenter / x64  OK    OK    OK    OK  UNNEEDED, same version is already published
merida1macOS 12.7.4 Monterey / x86_64  OK    OK    OK    OK  UNNEEDED, same version is already published
kjohnson1macOS 13.6.6 Ventura / arm64see weekly results here
Package 41/43HostnameOS / ArchINSTALLBUILDCHECKBUILD BIN
universalmotif 1.23.0  (landing page)
Benjamin Jean-Marie Tremblay
git_last_commit: 34eb367
git_last_commit_date: 2024-04-30 11:10:57 -0400
nebbiolo2Linux (Ubuntu 22.04.3 LTS) / x86_64  OK    OK    OK  UNNEEDED, same version is already published
palomino4Windows Server 2022 Datacenter / x64  OK    OK    OK    OK  UNNEEDED, same version is already published
merida1macOS 12.7.4 Monterey / x86_64  OK    OK    OK    OK  UNNEEDED, same version is already published
kjohnson1macOS 13.6.6 Ventura / arm64see weekly results here
Package 42/43HostnameOS / ArchINSTALLBUILDCHECKBUILD BIN
VanillaICE 1.67.0  (landing page)
Robert Scharpf
git_last_commit: 7613876
git_last_commit_date: 2024-04-30 10:17:20 -0400
nebbiolo2Linux (Ubuntu 22.04.3 LTS) / x86_64  OK    OK    OK  UNNEEDED, same version is already published
palomino4Windows Server 2022 Datacenter / x64  OK    OK    OK    OK  UNNEEDED, same version is already published
merida1macOS 12.7.4 Monterey / x86_64  OK    OK    OK    OK  UNNEEDED, same version is already published
kjohnson1macOS 13.6.6 Ventura / arm64see weekly results here
Package 43/43HostnameOS / ArchINSTALLBUILDCHECKBUILD BIN
VariantAnnotation 1.51.0  (landing page)
Bioconductor Package Maintainer
git_last_commit: 6d549f2
git_last_commit_date: 2024-04-30 10:25:08 -0400
nebbiolo2Linux (Ubuntu 22.04.3 LTS) / x86_64  OK    OK    WARNINGS  UNNEEDED, same version is already published
palomino4Windows Server 2022 Datacenter / x64  OK    OK    WARNINGS    OK  UNNEEDED, same version is already published
merida1macOS 12.7.4 Monterey / x86_64  OK    OK    WARNINGS    OK  UNNEEDED, same version is already published
kjohnson1macOS 13.6.6 Ventura / arm64see weekly results here