Back to Multiple platform build/check report for BioC 3.14
ABCDEFGHIJKL[M]NOPQRSTUVWXYZ

This page was generated on 2021-07-30 12:05:08 -0400 (Fri, 30 Jul 2021).

INSTALL results for MWASTools on riesling1

To the developers/maintainers of the MWASTools package:
- Please allow up to 24 hours (and sometimes 48 hours) for your latest push to git@git.bioconductor.org:packages/MWASTools.git to
reflect on this report. See How and When does the builder pull? When will my changes propagate? here for more information.
- Make sure to use the following settings in order to reproduce any error or warning you see on this page.

raw results

Package 1221/2015HostnameOS / ArchINSTALLBUILDCHECKBUILD BIN
MWASTools 1.17.0  (landing page)
Andrea Rodriguez-Martinez , Rafael Ayala
Snapshot Date: 2021-07-29 14:50:07 -0400 (Thu, 29 Jul 2021)
URL: https://git.bioconductor.org/packages/MWASTools
Branch: master
Last Commit: bfeddb1
Last Changed Date: 2021-05-19 12:24:36 -0400 (Wed, 19 May 2021)
nebbiolo2Linux (Ubuntu 20.04.2 LTS) / x86_64  OK    OK    OK  UNNEEDED, same version is already published
riesling1Windows Server 2019 Standard / x64  OK    OK    OK    OK  NO, package depends on 'KEGGgraph' which is not available
merida1macOS 10.14.6 Mojave / x86_64  OK    OK    OK    OK  UNNEEDED, same version is already published

Summary

Package: MWASTools
Version: 1.17.0
Command: C:\cygwin\bin\curl.exe -O http://155.52.207.166/BBS/3.14/bioc/src/contrib/MWASTools_1.17.0.tar.gz && rm -rf MWASTools.buildbin-libdir && mkdir MWASTools.buildbin-libdir && D:\biocbuild\bbs-3.14-bioc\R\bin\R.exe CMD INSTALL --merge-multiarch --build --library=MWASTools.buildbin-libdir MWASTools_1.17.0.tar.gz && D:\biocbuild\bbs-3.14-bioc\R\bin\R.exe CMD INSTALL MWASTools_1.17.0.zip && rm MWASTools_1.17.0.tar.gz MWASTools_1.17.0.zip
StartedAt: 2021-07-29 18:04:28 -0400 (Thu, 29 Jul 2021)
EndedAt: 2021-07-29 18:07:03 -0400 (Thu, 29 Jul 2021)
EllapsedTime: 154.8 seconds
RetCode: 0
Status:   OK  

Command output

##############################################################################
##############################################################################
###
### Running command:
###
###   C:\cygwin\bin\curl.exe -O http://155.52.207.166/BBS/3.14/bioc/src/contrib/MWASTools_1.17.0.tar.gz && rm -rf MWASTools.buildbin-libdir && mkdir MWASTools.buildbin-libdir && D:\biocbuild\bbs-3.14-bioc\R\bin\R.exe CMD INSTALL --merge-multiarch --build --library=MWASTools.buildbin-libdir MWASTools_1.17.0.tar.gz && D:\biocbuild\bbs-3.14-bioc\R\bin\R.exe CMD INSTALL MWASTools_1.17.0.zip && rm MWASTools_1.17.0.tar.gz MWASTools_1.17.0.zip
###
##############################################################################
##############################################################################


  % Total    % Received % Xferd  Average Speed   Time    Time     Time  Current
                                 Dload  Upload   Total   Spent    Left  Speed

  0     0    0     0    0     0      0      0 --:--:-- --:--:-- --:--:--     0
 21 1959k   21  421k    0     0  1765k      0  0:00:01 --:--:--  0:00:01 1757k
100 1959k  100 1959k    0     0  2811k      0 --:--:-- --:--:-- --:--:-- 2807k

install for i386

* installing *source* package 'MWASTools' ...
** using staged installation
** R
** data
*** moving datasets to lazyload DB
** inst
** byte-compile and prepare package for lazy loading
** help
*** installing help indices
  converting help for package 'MWASTools'
    finding HTML links ... done
    CV_filter                               html  
    JBA_binning                             html  
    JBA_corDistribution                     html  
    JBA_plotBins                            html  
    KEGG_metabolic_paths                    html  
    MS_data                                 html  
    MWAS_KEGG_network                       html  
    MWAS_KEGG_pathways                      html  
    MWAS_KEGG_shortestpaths                 html  
    MWAS_SummarizedExperiment               html  
    MWAS_barplot                            html  
    MWAS_bootstrapping                      html  
    MWAS_filter                             html  
    MWAS_heatmap                            html  
    MWAS_network                            html  
    MWAS_scatterplotMS                      html  
    MWAS_skylineNMR                         html  
    MWAS_stats                              html  
    QC_CV                                   html  
    QC_CV_scatterplot                       html  
    QC_CV_specNMR                           html  
    QC_PCA                                  html  
    QC_PCA_scoreplot                        html  
    STOCSY_NMR                              html  
    metabo_SE                               html  
    plot_spectraNMR                         html  
    targetMetabo_SE                         html  
** building package indices
** installing vignettes
** testing if installed package can be loaded from temporary location
** testing if installed package can be loaded from final location
** testing if installed package keeps a record of temporary installation path

install for x64

* installing *source* package 'MWASTools' ...
** testing if installed package can be loaded
* MD5 sums
packaged installation of 'MWASTools' as MWASTools_1.17.0.zip
* DONE (MWASTools)
* installing to library 'D:/biocbuild/bbs-3.14-bioc/R/library'
package 'MWASTools' successfully unpacked and MD5 sums checked