Back to Multiple platform build/check report for BioC 3.14
ABCDEFGHIJKL[M]NOPQRSTUVWXYZ

This page was generated on 2021-07-30 12:05:36 -0400 (Fri, 30 Jul 2021).

BUILD results for MWASTools on merida1

To the developers/maintainers of the MWASTools package:
- Please allow up to 24 hours (and sometimes 48 hours) for your latest push to git@git.bioconductor.org:packages/MWASTools.git to
reflect on this report. See How and When does the builder pull? When will my changes propagate? here for more information.
- Make sure to use the following settings in order to reproduce any error or warning you see on this page.

raw results

Package 1221/2015HostnameOS / ArchINSTALLBUILDCHECKBUILD BIN
MWASTools 1.17.0  (landing page)
Andrea Rodriguez-Martinez , Rafael Ayala
Snapshot Date: 2021-07-29 14:50:07 -0400 (Thu, 29 Jul 2021)
URL: https://git.bioconductor.org/packages/MWASTools
Branch: master
Last Commit: bfeddb1
Last Changed Date: 2021-05-19 12:24:36 -0400 (Wed, 19 May 2021)
nebbiolo2Linux (Ubuntu 20.04.2 LTS) / x86_64  OK    OK    OK  UNNEEDED, same version is already published
riesling1Windows Server 2019 Standard / x64  OK    OK    OK    OK  NO, package depends on 'KEGGgraph' which is not available
merida1macOS 10.14.6 Mojave / x86_64  OK    OK    OK    OK  UNNEEDED, same version is already published

Summary

Package: MWASTools
Version: 1.17.0
Command: /Library/Frameworks/R.framework/Resources/bin/R CMD build --keep-empty-dirs --no-resave-data MWASTools
StartedAt: 2021-07-29 20:53:53 -0400 (Thu, 29 Jul 2021)
EndedAt: 2021-07-29 20:55:21 -0400 (Thu, 29 Jul 2021)
EllapsedTime: 88.2 seconds
RetCode: 0
Status:   OK  
PackageFile: MWASTools_1.17.0.tar.gz
PackageFileSize: 2.602 MiB

Command output

##############################################################################
##############################################################################
###
### Running command:
###
###   /Library/Frameworks/R.framework/Resources/bin/R CMD build --keep-empty-dirs --no-resave-data MWASTools
###
##############################################################################
##############################################################################


* checking for file ‘MWASTools/DESCRIPTION’ ... OK
* preparing ‘MWASTools’:
* checking DESCRIPTION meta-information ... OK
* installing the package to build vignettes
* creating vignettes ... OK
* checking for LF line-endings in source and make files and shell scripts
* checking for empty or unneeded directories
* building ‘MWASTools_1.17.0.tar.gz’