Back to Multiple platform build/check report for BioC 3.14
ABCDEFGHIJKL[M]NOPQRSTUVWXYZ

This page was generated on 2021-07-30 12:05:36 -0400 (Fri, 30 Jul 2021).

BUILD BIN results for MWASTools on merida1

To the developers/maintainers of the MWASTools package:
- Please allow up to 24 hours (and sometimes 48 hours) for your latest push to git@git.bioconductor.org:packages/MWASTools.git to
reflect on this report. See How and When does the builder pull? When will my changes propagate? here for more information.
- Make sure to use the following settings in order to reproduce any error or warning you see on this page.

raw results

Package 1221/2015HostnameOS / ArchINSTALLBUILDCHECKBUILD BIN
MWASTools 1.17.0  (landing page)
Andrea Rodriguez-Martinez , Rafael Ayala
Snapshot Date: 2021-07-29 14:50:07 -0400 (Thu, 29 Jul 2021)
URL: https://git.bioconductor.org/packages/MWASTools
Branch: master
Last Commit: bfeddb1
Last Changed Date: 2021-05-19 12:24:36 -0400 (Wed, 19 May 2021)
nebbiolo2Linux (Ubuntu 20.04.2 LTS) / x86_64  OK    OK    OK  UNNEEDED, same version is already published
riesling1Windows Server 2019 Standard / x64  OK    OK    OK    OK  NO, package depends on 'KEGGgraph' which is not available
merida1macOS 10.14.6 Mojave / x86_64  OK    OK    OK    OK  UNNEEDED, same version is already published

Summary

Package: MWASTools
Version: 1.17.0
Command: rm -rf MWASTools.buildbin-libdir && mkdir MWASTools.buildbin-libdir && /Users/biocbuild/BBS/utils/build-universal.sh MWASTools_1.17.0.tar.gz /Library/Frameworks/R.framework/Resources/bin/R MWASTools.buildbin-libdir
StartedAt: 2021-07-30 09:50:16 -0400 (Fri, 30 Jul 2021)
EndedAt: 2021-07-30 09:50:54 -0400 (Fri, 30 Jul 2021)
EllapsedTime: 38.2 seconds
RetCode: 0
Status:   OK  
PackageFile: MWASTools_1.17.0.tgz
PackageFileSize: 2.879 MiB

Command output

##############################################################################
##############################################################################
###
### Running command:
###
###   rm -rf MWASTools.buildbin-libdir && mkdir MWASTools.buildbin-libdir && /Users/biocbuild/BBS/utils/build-universal.sh MWASTools_1.17.0.tar.gz /Library/Frameworks/R.framework/Resources/bin/R MWASTools.buildbin-libdir
###
##############################################################################
##############################################################################


>>>>>>> 
>>>>>>> INSTALLATION WITH 'R CMD INSTALL --preclean --no-multiarch --library=MWASTools.buildbin-libdir MWASTools_1.17.0.tar.gz'
>>>>>>> 

* installing *source* package ‘MWASTools’ ...
** using staged installation
** R
** data
*** moving datasets to lazyload DB
** inst
** byte-compile and prepare package for lazy loading
** help
*** installing help indices
** building package indices
** installing vignettes
** testing if installed package can be loaded from temporary location
** testing if installed package can be loaded from final location
** testing if installed package keeps a record of temporary installation path
* DONE (MWASTools)