Back to Multiple platform build/check report for BioC 3.14
ABCDEFGHIJKL[M]NOPQRSTUVWXYZ

All results for package MSnID

This page was generated on 2021-06-16 12:04:23 -0400 (Wed, 16 Jun 2021).

Package 1173/1993HostnameOS / ArchINSTALLBUILDCHECKBUILD BIN
MSnID 1.27.0  (landing page)
Vlad Petyuk
Snapshot Date: 2021-06-15 14:50:06 -0400 (Tue, 15 Jun 2021)
URL: https://git.bioconductor.org/packages/MSnID
Branch: master
Last Commit: 4abf729
Last Changed Date: 2021-05-19 12:07:42 -0400 (Wed, 19 May 2021)
nebbiolo2Linux (Ubuntu 20.04.2 LTS) / x86_64  OK    OK    OK  UNNEEDED, same version is already published
riesling1Windows Server 2019 Standard / x64  OK    OK    OK    OK  NO, package depends on 'MSnbase' which is not available
merida1macOS 10.14.6 Mojave / x86_64  OK    OK    OK    OK  UNNEEDED, same version is already published