Back to Multiple platform build/check report for BioC 3.14
ABCDEFGHIJKL[M]NOPQRSTUVWXYZ

This page was generated on 2021-07-24 12:06:36 -0400 (Sat, 24 Jul 2021).

BUILD BIN results for MIGSA on merida1

To the developers/maintainers of the MIGSA package:
- Please allow up to 24 hours (and sometimes 48 hours) for your latest push to git@git.bioconductor.org:packages/MIGSA.git to
reflect on this report. See How and When does the builder pull? When will my changes propagate? here for more information.
- Make sure to use the following settings in order to reproduce any error or warning you see on this page.

raw results

Package 1112/2008HostnameOS / ArchINSTALLBUILDCHECKBUILD BIN
MIGSA 1.17.0  (landing page)
Juan C. Rodriguez
Snapshot Date: 2021-07-23 14:50:08 -0400 (Fri, 23 Jul 2021)
URL: https://git.bioconductor.org/packages/MIGSA
Branch: master
Last Commit: a68b34c
Last Changed Date: 2021-05-19 12:26:14 -0400 (Wed, 19 May 2021)
nebbiolo2Linux (Ubuntu 20.04.2 LTS) / x86_64  OK    OK    OK  UNNEEDED, same version is already published
riesling1Windows Server 2019 Standard / x64  OK    OK    OK    OK  NO, package depends on 'GOstats' which is not available
merida1macOS 10.14.6 Mojave / x86_64  OK    OK    OK    OK  UNNEEDED, same version is already published

Summary

Package: MIGSA
Version: 1.17.0
Command: rm -rf MIGSA.buildbin-libdir && mkdir MIGSA.buildbin-libdir && /Users/biocbuild/BBS/utils/build-universal.sh MIGSA_1.17.0.tar.gz /Library/Frameworks/R.framework/Resources/bin/R MIGSA.buildbin-libdir
StartedAt: 2021-07-24 09:17:32 -0400 (Sat, 24 Jul 2021)
EndedAt: 2021-07-24 09:18:24 -0400 (Sat, 24 Jul 2021)
EllapsedTime: 51.8 seconds
RetCode: 0
Status:   OK  
PackageFile: MIGSA_1.17.0.tgz
PackageFileSize: 3.057 MiB

Command output

##############################################################################
##############################################################################
###
### Running command:
###
###   rm -rf MIGSA.buildbin-libdir && mkdir MIGSA.buildbin-libdir && /Users/biocbuild/BBS/utils/build-universal.sh MIGSA_1.17.0.tar.gz /Library/Frameworks/R.framework/Resources/bin/R MIGSA.buildbin-libdir
###
##############################################################################
##############################################################################


>>>>>>> 
>>>>>>> INSTALLATION WITH 'R CMD INSTALL --preclean --no-multiarch --library=MIGSA.buildbin-libdir MIGSA_1.17.0.tar.gz'
>>>>>>> 

* installing *source* package ‘MIGSA’ ...
** using staged installation
** R
** data
** inst
** byte-compile and prepare package for lazy loading
** help
*** installing help indices
** building package indices
** installing vignettes
** testing if installed package can be loaded from temporary location
** testing if installed package can be loaded from final location
** testing if installed package keeps a record of temporary installation path
* DONE (MIGSA)