Index of /checkResults/devel/bioc-LATEST/MAIT/raw-results

[ICO]NameLast modifiedSizeDescription

[DIR]Parent Directory  -  
[   ]info.dcf19-Sep-2021 01:06 271  
[DIR]merida1/19-Sep-2021 01:06 -  
[DIR]nebbiolo2/19-Sep-2021 01:05 -  
[DIR]riesling1/19-Sep-2021 01:06 -