Index of /checkResults/devel/bioc-LATEST/LOBSTAHS/raw-results/riesling1

[ICO]NameLast modifiedSizeDescription

[DIR]Parent Directory  -  
[TXT]buildbin-out.txt22-Oct-2021 01:04 2.1K 
[   ]buildbin-summary.dcf22-Oct-2021 01:04 539  
[TXT]buildsrc-out.txt22-Oct-2021 01:04 904  
[   ]buildsrc-summary.dcf22-Oct-2021 01:04 457  
[TXT]checksrc-out.txt22-Oct-2021 01:04 4.6K 
[   ]checksrc-summary.dcf22-Oct-2021 01:04 460  
[TXT]install-out.txt22-Oct-2021 01:04 2.9K 
[   ]install-summary.dcf22-Oct-2021 01:04 638