Index of /checkResults/devel/bioc-LATEST/LOBSTAHS/raw-results/nebbiolo2

[ICO]NameLast modifiedSizeDescription

[DIR]Parent Directory  -  
[TXT]buildsrc-out.txt26-Oct-2021 03:05 873  
[   ]buildsrc-summary.dcf26-Oct-2021 03:05 420  
[TXT]checksrc-out.txt26-Oct-2021 03:05 3.7K 
[   ]checksrc-summary.dcf26-Oct-2021 03:05 434  
[TXT]install-out.txt26-Oct-2021 03:05 1.2K 
[   ]install-summary.dcf26-Oct-2021 03:05 261