Index of /checkResults/devel/bioc-LATEST/LOBSTAHS/raw-results/merida1

[ICO]NameLast modifiedSizeDescription

[DIR]Parent Directory  -  
[TXT]buildsrc-out.txt22-Oct-2021 01:05 883  
[   ]buildsrc-summary.dcf22-Oct-2021 01:05 430  
[TXT]checksrc-out.txt22-Oct-2021 01:05 3.8K 
[   ]checksrc-summary.dcf22-Oct-2021 01:05 454  
[TXT]install-out.txt22-Oct-2021 01:05 1.2K 
[   ]install-summary.dcf22-Oct-2021 01:05 271