Index of /checkResults/devel/bioc-LATEST/LOBSTAHS/raw-results

[ICO]NameLast modifiedSizeDescription

[DIR]Parent Directory  -  
[   ]info.dcf24-Oct-2021 03:07 259  
[DIR]merida1/24-Oct-2021 03:07 -  
[DIR]nebbiolo2/24-Oct-2021 03:06 -  
[DIR]riesling1/24-Oct-2021 03:06 -