Back to Multiple platform build/check report for BioC 3.14
ABCDEFGHIJK[L]MNOPQRSTUVWXYZ

This page was generated on 2021-07-30 12:05:33 -0400 (Fri, 30 Jul 2021).

BUILD results for LOBSTAHS on merida1

To the developers/maintainers of the LOBSTAHS package:
- Please allow up to 24 hours (and sometimes 48 hours) for your latest push to git@git.bioconductor.org:packages/LOBSTAHS.git to
reflect on this report. See How and When does the builder pull? When will my changes propagate? here for more information.
- Make sure to use the following settings in order to reproduce any error or warning you see on this page.

raw results

Package 979/2015HostnameOS / ArchINSTALLBUILDCHECKBUILD BIN
LOBSTAHS 1.19.0  (landing page)
James Collins
Snapshot Date: 2021-07-29 14:50:07 -0400 (Thu, 29 Jul 2021)
URL: https://git.bioconductor.org/packages/LOBSTAHS
Branch: master
Last Commit: 3deb41f
Last Changed Date: 2021-05-19 12:21:39 -0400 (Wed, 19 May 2021)
nebbiolo2Linux (Ubuntu 20.04.2 LTS) / x86_64  OK    OK    WARNINGS  UNNEEDED, same version is already published
riesling1Windows Server 2019 Standard / x64  OK    OK    WARNINGS    OK  NO, package depends on 'xcms' which is not available
merida1macOS 10.14.6 Mojave / x86_64  OK    OK    WARNINGS    OK  UNNEEDED, same version is already published

Summary

Package: LOBSTAHS
Version: 1.19.0
Command: /Library/Frameworks/R.framework/Resources/bin/R CMD build --keep-empty-dirs --no-resave-data LOBSTAHS
StartedAt: 2021-07-29 20:22:46 -0400 (Thu, 29 Jul 2021)
EndedAt: 2021-07-29 20:23:42 -0400 (Thu, 29 Jul 2021)
EllapsedTime: 56.1 seconds
RetCode: 0
Status:   OK  
PackageFile: LOBSTAHS_1.19.0.tar.gz
PackageFileSize: 3.372 MiB

Command output

##############################################################################
##############################################################################
###
### Running command:
###
###   /Library/Frameworks/R.framework/Resources/bin/R CMD build --keep-empty-dirs --no-resave-data LOBSTAHS
###
##############################################################################
##############################################################################


* checking for file ‘LOBSTAHS/DESCRIPTION’ ... OK
* preparing ‘LOBSTAHS’:
* checking DESCRIPTION meta-information ... OK
* installing the package to build vignettes
* creating vignettes ... OK
* checking for LF line-endings in source and make files and shell scripts
* checking for empty or unneeded directories
* looking to see if a ‘data/datalist’ file should be added
* building ‘LOBSTAHS_1.19.0.tar.gz’