Back to Multiple platform build/check report for BioC 3.20:   simplified   long
ABCDEFGHIJK[L]MNOPQRSTUVWXYZ

This page was generated on 2024-07-20 13:55 -0400 (Sat, 20 Jul 2024).

HostnameOSArch (*)R versionInstalled pkgs
nebbiolo2Linux (Ubuntu 22.04.3 LTS)x86_644.4.1 (2024-06-14) -- "Race for Your Life" 4688
lconwaymacOS 12.7.1 Montereyx86_644.4.1 (2024-06-14) -- "Race for Your Life" 4455
Click on any hostname to see more info about the system (e.g. compilers)      (*) as reported by 'uname -p', except on Windows and Mac OS X

Package 1095/2248HostnameOS / ArchINSTALLBUILDCHECKBUILD BIN
LOBSTAHS 1.31.0  (landing page)
Henry Holm
Snapshot Date: 2024-07-19 14:00 -0400 (Fri, 19 Jul 2024)
git_url: https://git.bioconductor.org/packages/LOBSTAHS
git_branch: devel
git_last_commit: 305ce8d
git_last_commit_date: 2024-04-30 10:52:17 -0400 (Tue, 30 Apr 2024)
nebbiolo2Linux (Ubuntu 22.04.3 LTS) / x86_64  OK    OK    WARNINGS  UNNEEDED, same version is already published
lconwaymacOS 12.7.1 Monterey / x86_64  OK    OK    WARNINGS    OK  UNNEEDED, same version is already published


BUILD BIN results for LOBSTAHS on lconway

To the developers/maintainers of the LOBSTAHS package:
- Allow up to 24 hours (and sometimes 48 hours) for your latest push to git@git.bioconductor.org:packages/LOBSTAHS.git to reflect on this report. See Troubleshooting Build Report for more information.
- Use the following Renviron settings to reproduce errors and warnings.
- If 'R CMD check' started to fail recently on the Linux builder(s) over a missing dependency, add the missing dependency to 'Suggests:' in your DESCRIPTION file. See Renviron.bioc for more information.

raw results


Summary

Package: LOBSTAHS
Version: 1.31.0
Command: rm -rf LOBSTAHS.buildbin-libdir && mkdir LOBSTAHS.buildbin-libdir && /Users/biocbuild/BBS/utils/build-universal.sh LOBSTAHS_1.31.0.tar.gz /Library/Frameworks/R.framework/Resources/bin/R LOBSTAHS.buildbin-libdir
StartedAt: 2024-07-20 03:22:23 -0400 (Sat, 20 Jul 2024)
EndedAt: 2024-07-20 03:23:33 -0400 (Sat, 20 Jul 2024)
EllapsedTime: 70.6 seconds
RetCode: 0
Status:   OK  
PackageFile: LOBSTAHS_1.31.0.tgz
PackageFileSize: 1.995 MiB

Command output

##############################################################################
##############################################################################
###
### Running command:
###
###   rm -rf LOBSTAHS.buildbin-libdir && mkdir LOBSTAHS.buildbin-libdir && /Users/biocbuild/BBS/utils/build-universal.sh LOBSTAHS_1.31.0.tar.gz /Library/Frameworks/R.framework/Resources/bin/R LOBSTAHS.buildbin-libdir
###
##############################################################################
##############################################################################


>>>>>>> 
>>>>>>> INSTALLATION WITH 'R CMD INSTALL --preclean --no-multiarch --library=LOBSTAHS.buildbin-libdir LOBSTAHS_1.31.0.tar.gz'
>>>>>>> 

* installing *source* package ‘LOBSTAHS’ ...
** using staged installation
** R
** data
** inst
** byte-compile and prepare package for lazy loading
Creating a new generic function for ‘polarity<-’ in package ‘LOBSTAHS’
** help
*** installing help indices
** building package indices
** installing vignettes
** testing if installed package can be loaded from temporary location
Warning: multiple methods tables found for ‘polarity<-’
** testing if installed package can be loaded from final location
Warning: multiple methods tables found for ‘polarity<-’
** testing if installed package keeps a record of temporary installation path
* DONE (LOBSTAHS)