Back to Build/check report for BioC 3.20:   simplified   long
ABCDEFGHIJK[L]MNOPQRSTUVWXYZ

This page was generated on 2024-05-29 05:33:51 -0400 (Wed, 29 May 2024).

HostnameOSArch (*)R versionInstalled pkgs
nebbiolo2Linux (Ubuntu 22.04.3 LTS)x86_644.4.0 RC (2024-04-16 r86468) -- "Puppy Cup" 4667
Click on any hostname to see more info about the system (e.g. compilers)      (*) as reported by 'uname -p', except on Windows and Mac OS X

All results for package LOBSTAHS


To the developers/maintainers of the LOBSTAHS package:
- Allow up to 24 hours (and sometimes 48 hours) for your latest push to git@git.bioconductor.org:packages/LOBSTAHS.git to reflect on this report. See Troubleshooting Build Report for more information.
- Use the following Renviron settings to reproduce errors and warnings.
- If 'R CMD check' started to fail recently on the Linux builder(s) over a missing dependency, add the missing dependency to 'Suggests:' in your DESCRIPTION file. See Renviron.bioc for more information.

raw results

Package 1086/2233HostnameOS / ArchINSTALLBUILDCHECKBUILD BIN
LOBSTAHS 1.31.0  (landing page)
Henry Holm
Snapshot Date: 2024-05-28 14:14:56 -0400 (Tue, 28 May 2024)
git_url: https://git.bioconductor.org/packages/LOBSTAHS
git_branch: devel
git_last_commit: 305ce8d
git_last_commit_date: 2024-04-30 10:52:17 -0400 (Tue, 30 Apr 2024)
nebbiolo2Linux (Ubuntu 22.04.3 LTS) / x86_64  OK    OK    WARNINGS  UNNEEDED, same version is already published