Back to Multiple platform build/check report for BioC 3.14
ABCDEFGH[I]JKLMNOPQRSTUVWXYZ

This page was generated on 2021-10-22 12:04:30 -0400 (Fri, 22 Oct 2021).

BUILD BIN results for ImmuneSpaceR on riesling1

To the developers/maintainers of the ImmuneSpaceR package:
- Please allow up to 24 hours (and sometimes 48 hours) for your latest push to git@git.bioconductor.org:packages/ImmuneSpaceR.git to
reflect on this report. See How and When does the builder pull? When will my changes propagate? here for more information.
- Make sure to use the following settings in order to reproduce any error or warning you see on this page.

raw results

Package 921/2075HostnameOS / ArchINSTALLBUILDCHECKBUILD BIN
ImmuneSpaceR 1.21.0  (landing page)
ImmuneSpace Package Maintainer
Snapshot Date: 2021-10-21 14:50:08 -0400 (Thu, 21 Oct 2021)
git_url: https://git.bioconductor.org/packages/ImmuneSpaceR
git_branch: master
git_last_commit: 94ad26e
git_last_commit_date: 2021-05-19 12:20:27 -0400 (Wed, 19 May 2021)
nebbiolo2Linux (Ubuntu 20.04.2 LTS) / x86_64  OK    OK    OK  UNNEEDED, same version is already published
riesling1Windows Server 2019 Standard / x64  OK    OK    OK    OK  UNNEEDED, same version is already published
merida1macOS 10.14.6 Mojave / x86_64  OK    OK    OK    NA  

Summary

Package: ImmuneSpaceR
Version: 1.21.0
Command: rm -rf ImmuneSpaceR.buildbin-libdir && mkdir ImmuneSpaceR.buildbin-libdir && D:\biocbuild\bbs-3.14-bioc\R\bin\R.exe CMD INSTALL --merge-multiarch --build --library=ImmuneSpaceR.buildbin-libdir ImmuneSpaceR_1.21.0.tar.gz
StartedAt: 2021-10-22 05:57:41 -0400 (Fri, 22 Oct 2021)
EndedAt: 2021-10-22 06:01:41 -0400 (Fri, 22 Oct 2021)
EllapsedTime: 240.0 seconds
RetCode: 0
Status:   OK  
PackageFile: ImmuneSpaceR_1.21.0.zip
PackageFileSize: 773.9 KiB

Command output

##############################################################################
##############################################################################
###
### Running command:
###
###   rm -rf ImmuneSpaceR.buildbin-libdir && mkdir ImmuneSpaceR.buildbin-libdir && D:\biocbuild\bbs-3.14-bioc\R\bin\R.exe CMD INSTALL --merge-multiarch --build --library=ImmuneSpaceR.buildbin-libdir ImmuneSpaceR_1.21.0.tar.gz
###
##############################################################################
##############################################################################



install for i386

* installing *source* package 'ImmuneSpaceR' ...
** using staged installation
** R
** inst
** byte-compile and prepare package for lazy loading
** help
*** installing help indices
  converting help for package 'ImmuneSpaceR'
    finding HTML links ... done
    CreateConnection                        html  
    ISpalette                               html  
    ImmuneSpaceConnection                   html  
    ImmuneSpaceR-package                    html  
    check_netrc                             html  
    interactive_netrc                       html  
    loadConnection                          html  
    template_IS                             html  
    theme_IS                                html  
    write_netrc                             html  
*** copying figures
** building package indices
** installing vignettes
** testing if installed package can be loaded from temporary location
** testing if installed package can be loaded from final location
** testing if installed package keeps a record of temporary installation path

install for x64

* installing *source* package 'ImmuneSpaceR' ...
** testing if installed package can be loaded
* MD5 sums
packaged installation of 'ImmuneSpaceR' as ImmuneSpaceR_1.21.0.zip
* DONE (ImmuneSpaceR)