Back to Multiple platform build/check report for BioC 3.14
ABCDEFGH[I]JKLMNOPQRSTUVWXYZ

This page was generated on 2021-10-22 12:04:03 -0400 (Fri, 22 Oct 2021).

CHECK results for ImmuneSpaceR on nebbiolo2

To the developers/maintainers of the ImmuneSpaceR package:
- Please allow up to 24 hours (and sometimes 48 hours) for your latest push to git@git.bioconductor.org:packages/ImmuneSpaceR.git to
reflect on this report. See How and When does the builder pull? When will my changes propagate? here for more information.
- Make sure to use the following settings in order to reproduce any error or warning you see on this page.

raw results

Package 921/2075HostnameOS / ArchINSTALLBUILDCHECKBUILD BIN
ImmuneSpaceR 1.21.0  (landing page)
ImmuneSpace Package Maintainer
Snapshot Date: 2021-10-21 14:50:08 -0400 (Thu, 21 Oct 2021)
git_url: https://git.bioconductor.org/packages/ImmuneSpaceR
git_branch: master
git_last_commit: 94ad26e
git_last_commit_date: 2021-05-19 12:20:27 -0400 (Wed, 19 May 2021)
nebbiolo2Linux (Ubuntu 20.04.2 LTS) / x86_64  OK    OK    OK  UNNEEDED, same version is already published
riesling1Windows Server 2019 Standard / x64  OK    OK    OK    OK  UNNEEDED, same version is already published
merida1macOS 10.14.6 Mojave / x86_64  OK    OK    OK    NA  

Summary

Package: ImmuneSpaceR
Version: 1.21.0
Command: /home/biocbuild/bbs-3.14-bioc/R/bin/R CMD check --install=check:ImmuneSpaceR.install-out.txt --library=/home/biocbuild/bbs-3.14-bioc/R/library --no-vignettes --timings ImmuneSpaceR_1.21.0.tar.gz
StartedAt: 2021-10-21 20:31:14 -0400 (Thu, 21 Oct 2021)
EndedAt: 2021-10-21 20:32:31 -0400 (Thu, 21 Oct 2021)
EllapsedTime: 77.6 seconds
RetCode: 0
Status:   OK  
CheckDir: ImmuneSpaceR.Rcheck
Warnings: 0

Command output

##############################################################################
##############################################################################
###
### Running command:
###
###   /home/biocbuild/bbs-3.14-bioc/R/bin/R CMD check --install=check:ImmuneSpaceR.install-out.txt --library=/home/biocbuild/bbs-3.14-bioc/R/library --no-vignettes --timings ImmuneSpaceR_1.21.0.tar.gz
###
##############################################################################
##############################################################################


* using log directory ‘/home/biocbuild/bbs-3.14-bioc/meat/ImmuneSpaceR.Rcheck’
* using R version 4.1.1 (2021-08-10)
* using platform: x86_64-pc-linux-gnu (64-bit)
* using session charset: UTF-8
* using option ‘--no-vignettes’
* checking for file ‘ImmuneSpaceR/DESCRIPTION’ ... OK
* checking extension type ... Package
* this is package ‘ImmuneSpaceR’ version ‘1.21.0’
* checking package namespace information ... OK
* checking package dependencies ... OK
* checking if this is a source package ... OK
* checking if there is a namespace ... OK
* checking for hidden files and directories ... OK
* checking for portable file names ... OK
* checking for sufficient/correct file permissions ... OK
* checking whether package ‘ImmuneSpaceR’ can be installed ... OK
* checking installed package size ... OK
* checking package directory ... OK
* checking ‘build’ directory ... OK
* checking DESCRIPTION meta-information ... OK
* checking top-level files ... OK
* checking for left-over files ... OK
* checking index information ... OK
* checking package subdirectories ... OK
* checking R files for non-ASCII characters ... OK
* checking R files for syntax errors ... OK
* checking whether the package can be loaded ... OK
* checking whether the package can be loaded with stated dependencies ... OK
* checking whether the package can be unloaded cleanly ... OK
* checking whether the namespace can be loaded with stated dependencies ... OK
* checking whether the namespace can be unloaded cleanly ... OK
* checking dependencies in R code ... NOTE
':::' call which should be '::': ‘Rlabkey:::labkey.getRequestOptions’
  See the note in ?`:::` about the use of this operator.
Unexported object imported by a ':::' call: ‘Rlabkey:::.lkdefaults’
  See the note in ?`:::` about the use of this operator.
* checking S3 generic/method consistency ... OK
* checking replacement functions ... OK
* checking foreign function calls ... OK
* checking R code for possible problems ... NOTE
.getDataToPlot: no visible binding for global variable
  ‘cell_number_preferred’
Undefined global functions or variables:
  cell_number_preferred
* checking Rd files ... OK
* checking Rd metadata ... OK
* checking Rd cross-references ... OK
* checking for missing documentation entries ... OK
* checking for code/documentation mismatches ... OK
* checking Rd \usage sections ... OK
* checking Rd contents ... OK
* checking for unstated dependencies in examples ... OK
* checking files in ‘vignettes’ ... OK
* checking examples ... OK
* checking for unstated dependencies in ‘tests’ ... OK
* checking tests ...
  Running ‘testthat.R’
 OK
* checking for unstated dependencies in vignettes ... OK
* checking package vignettes in ‘inst/doc’ ... OK
* checking running R code from vignettes ... SKIPPED
* checking re-building of vignette outputs ... SKIPPED
* checking PDF version of manual ... OK
* DONE

Status: 2 NOTEs
See
  ‘/home/biocbuild/bbs-3.14-bioc/meat/ImmuneSpaceR.Rcheck/00check.log’
for details.



Installation output

ImmuneSpaceR.Rcheck/00install.out

##############################################################################
##############################################################################
###
### Running command:
###
###   /home/biocbuild/bbs-3.14-bioc/R/bin/R CMD INSTALL ImmuneSpaceR
###
##############################################################################
##############################################################################


* installing to library ‘/home/biocbuild/bbs-3.14-bioc/R/library’
* installing *source* package ‘ImmuneSpaceR’ ...
** using staged installation
** R
** inst
** byte-compile and prepare package for lazy loading
** help
*** installing help indices
*** copying figures
** building package indices
** installing vignettes
** testing if installed package can be loaded from temporary location
** testing if installed package can be loaded from final location
** testing if installed package keeps a record of temporary installation path
* DONE (ImmuneSpaceR)

Tests output

ImmuneSpaceR.Rcheck/tests/testthat.Rout


R version 4.1.1 (2021-08-10) -- "Kick Things"
Copyright (C) 2021 The R Foundation for Statistical Computing
Platform: x86_64-pc-linux-gnu (64-bit)

R is free software and comes with ABSOLUTELY NO WARRANTY.
You are welcome to redistribute it under certain conditions.
Type 'license()' or 'licence()' for distribution details.

R is a collaborative project with many contributors.
Type 'contributors()' for more information and
'citation()' on how to cite R or R packages in publications.

Type 'demo()' for some demos, 'help()' for on-line help, or
'help.start()' for an HTML browser interface to help.
Type 'q()' to quit R.

> library(testthat)
> library(ImmuneSpaceR)
> 
> if (Sys.info()["user"] != "biocbuild") test_check("ImmuneSpaceR")
> 
> proc.time()
   user  system elapsed 
  3.489   0.144   3.617 

Example timings

ImmuneSpaceR.Rcheck/ImmuneSpaceR-Ex.timings

nameusersystemelapsed
CreateConnection0.0700.0120.669
ISpalette0.0040.0000.004
ImmuneSpaceConnection0.0150.0000.032
check_netrc000
interactive_netrc000
loadConnection0.0470.0000.047
template_IS0.0060.0000.006
theme_IS0.3400.0040.344
write_netrc000