Back to Multiple platform build/check report for BioC 3.14
ABCDEFGH[I]JKLMNOPQRSTUVWXYZ

This page was generated on 2021-10-22 12:05:01 -0400 (Fri, 22 Oct 2021).

BUILD results for ImmuneSpaceR on merida1

To the developers/maintainers of the ImmuneSpaceR package:
- Please allow up to 24 hours (and sometimes 48 hours) for your latest push to git@git.bioconductor.org:packages/ImmuneSpaceR.git to
reflect on this report. See How and When does the builder pull? When will my changes propagate? here for more information.
- Make sure to use the following settings in order to reproduce any error or warning you see on this page.

raw results

Package 921/2075HostnameOS / ArchINSTALLBUILDCHECKBUILD BIN
ImmuneSpaceR 1.21.0  (landing page)
ImmuneSpace Package Maintainer
Snapshot Date: 2021-10-21 14:50:08 -0400 (Thu, 21 Oct 2021)
git_url: https://git.bioconductor.org/packages/ImmuneSpaceR
git_branch: master
git_last_commit: 94ad26e
git_last_commit_date: 2021-05-19 12:20:27 -0400 (Wed, 19 May 2021)
nebbiolo2Linux (Ubuntu 20.04.2 LTS) / x86_64  OK    OK    OK  UNNEEDED, same version is already published
riesling1Windows Server 2019 Standard / x64  OK    OK    OK    OK  UNNEEDED, same version is already published
merida1macOS 10.14.6 Mojave / x86_64  OK    OK    OK    NA  

Summary

Package: ImmuneSpaceR
Version: 1.21.0
Command: /Library/Frameworks/R.framework/Resources/bin/R CMD build --keep-empty-dirs --no-resave-data ImmuneSpaceR
StartedAt: 2021-10-21 20:45:43 -0400 (Thu, 21 Oct 2021)
EndedAt: 2021-10-21 20:47:48 -0400 (Thu, 21 Oct 2021)
EllapsedTime: 126.0 seconds
RetCode: 0
Status:   OK  
PackageFile: ImmuneSpaceR_1.21.0.tar.gz
PackageFileSize: 1.453 MiB

Command output

##############################################################################
##############################################################################
###
### Running command:
###
###   /Library/Frameworks/R.framework/Resources/bin/R CMD build --keep-empty-dirs --no-resave-data ImmuneSpaceR
###
##############################################################################
##############################################################################


* checking for file ‘ImmuneSpaceR/DESCRIPTION’ ... OK
* preparing ‘ImmuneSpaceR’:
* checking DESCRIPTION meta-information ... OK
* installing the package to build vignettes
* creating vignettes ... OK
* checking for LF line-endings in source and make files and shell scripts
* checking for empty or unneeded directories
  NB: this package now depends on R (>= 3.5.0)
  WARNING: Added dependency on R >= 3.5.0 because serialized objects in
  serialize/load version 3 cannot be read in older versions of R.
  File(s) containing such objects:
    ‘ImmuneSpaceR/tests/testthat/datasets/SDY180_fcs_control_files.rds’
    ‘ImmuneSpaceR/tests/testthat/datasets/SDY180_fcs_sample_files.rds’
    ‘ImmuneSpaceR/tests/testthat/datasets/SDY180_mbaa.rds’
    ‘ImmuneSpaceR/tests/testthat/datasets/SDY180_neut_ab_titer.rds’
    ‘ImmuneSpaceR/tests/testthat/datasets/SDY269_elisa.rds’
    ‘ImmuneSpaceR/tests/testthat/datasets/SDY269_elispot.rds’
* building ‘ImmuneSpaceR_1.21.0.tar.gz’