Index of /checkResults/devel/bioc-LATEST/IVAS/raw-results/nebbiolo2

[ICO]NameLast modifiedSizeDescription

[DIR]Parent Directory  -  
[   ]install-summary.dcf23-Jul-2024 01:44 253  
[   ]checksrc-summary.dcf23-Jul-2024 01:44 408  
[   ]buildsrc-summary.dcf23-Jul-2024 01:44 414  
[TXT]buildsrc-out.txt23-Jul-2024 01:44 881  
[TXT]install-out.txt23-Jul-2024 01:44 1.0K 
[TXT]checksrc-out.txt23-Jul-2024 01:44 3.7K