Index of /checkResults/devel/bioc-LATEST/IVAS/raw-results/merida1

[ICO]NameLast modifiedSizeDescription

[DIR]Parent Directory  -  
[TXT]install-out.txt12-Jun-2024 04:42 1.0K 
[   ]install-summary.dcf12-Jun-2024 04:42 263  
[TXT]buildsrc-out.txt12-Jun-2024 04:42 867  
[   ]buildsrc-summary.dcf12-Jun-2024 04:42 419  
[TXT]checksrc-out.txt12-Jun-2024 04:42 3.9K 
[   ]checksrc-summary.dcf12-Jun-2024 04:42 438  
[TXT]buildbin-out.txt12-Jun-2024 04:42 1.2K 
[   ]buildbin-summary.dcf12-Jun-2024 04:42 512